BEGIN:VCALENDAR
VERSION:2.0
PRODID:-//ChamberMaster//Event Calendar 2.0//EN
METHOD:PUBLISH
X-PUBLISHED-TTL:P3D
REFRESH-INTERVAL:P3D
CALSCALE:GREGORIAN
BEGIN:VEVENT
DTSTART:20190517T160000Z
DTEND:20190518T000000Z
X-MICROSOFT-CDO-ALLDAYEVENT:FALSE
SUMMARY:22nd Annual Chamber Golf Classic
DESCRIPTION:The 22nd Annual Chamber Golf Classic will be held at the Lexington Golf & Country Club on Friday\, May 17! Registration will begin at noon with a shotgun start to play at 1:00 pm. \n\n\n\nThe awards ceremony following play will include our popular low country boil featuring live music by Stacy Strictly Solo! Invite the whole family to join you beginning at 4:30 pm! \n\n\n\nPlayer registration is $100.00 and includes 1 ticket to the low country boil. Register your team today!\n\n\n\nLow country boil tickets: \n\nAdults: $25.00\n\nChildren (ages 6-12): $12.50\n\nChildren (5 and under): FREE\n\n\n\nRegister your team and purchase tickets for the low country boil online. Sponsorship opportunities available.
X-ALT-DESC;FMTTYPE=text/html:<span style="color: rgb(75\, 79\, 86)\; font-family: Helvetica\, Arial\, sans-serif\; font-size: 14px\;">The 22nd Annual Chamber Golf Classic will be held at the Lexington Golf &amp\; Country Club on Friday\, May 17! Registration will begin at noon with a shotgun start to play at 1:00 pm.&nbsp\;</span><br style="color: rgb(75\, 79\, 86)\; font-family: Helvetica\, Arial\, sans-serif\; font-size: 14px\;" />\n<br style="color: rgb(75\, 79\, 86)\; font-family: Helvetica\, Arial\, sans-serif\; font-size: 14px\;" />\n<span style="color: rgb(75\, 79\, 86)\; font-family: Helvetica\, Arial\, sans-serif\; font-size: 14px\;">The awards ceremony following play will include our popular low country boil featuring live music by Stacy Strictly Solo!&nbsp\;Invite the whole family to join you beginning at 4:30 pm!&nbsp\;</span><br />\n<br style="color: rgb(75\, 79\, 86)\; font-family: Helvetica\, Arial\, sans-serif\; font-size: 14px\;" />\n<span style="color: rgb(75\, 79\, 86)\; font-family: Helvetica\, Arial\, sans-serif\; font-size: 14px\;">Player registration is $100.00 and includes 1 ticket to the low country boil. Register your team today!</span><br style="color: rgb(75\, 79\, 86)\; font-family: Helvetica\, Arial\, sans-serif\; font-size: 14px\;" />\n<br style="color: rgb(75\, 79\, 86)\; font-family: Helvetica\, Arial\, sans-serif\; font-size: 14px\;" />\n<span style="color: rgb(75\, 79\, 86)\; font-family: Helvetica\, Arial\, sans-serif\; font-size: 14px\;">Low country boil tickets:&nbsp\;</span><br style="color: rgb(75\, 79\, 86)\; font-family: Helvetica\, Arial\, sans-serif\; font-size: 14px\;" />\n<span style="color: rgb(75\, 79\, 86)\; font-family: Helvetica\, Arial\, sans-serif\; font-size: 14px\;">Adults: $25.00</span><br style="color: rgb(75\, 79\, 86)\; font-family: Helvetica\, Arial\, sans-serif\; font-size: 14px\;" />\n<span style="color: rgb(75\, 79\, 86)\; font-family: Helvetica\, Arial\, sans-serif\; font-size: 14px\;">Children (ages 6-12): $12.50</span><br style="color: rgb(75\, 79\, 86)\; font-family: Helvetica\, Arial\, sans-serif\; font-size: 14px\;" />\n<span style="color: rgb(75\, 79\, 86)\; font-family: Helvetica\, Arial\, sans-serif\; font-size: 14px\;">Children (5 and under): FREE</span><br style="color: rgb(75\, 79\, 86)\; font-family: Helvetica\, Arial\, sans-serif\; font-size: 14px\;" />\n<br style="color: rgb(75\, 79\, 86)\; font-family: Helvetica\, Arial\, sans-serif\; font-size: 14px\;" />\n<span style="color: rgb(75\, 79\, 86)\; font-family: Helvetica\, Arial\, sans-serif\; font-size: 14px\;">Register your team and purchase tickets for the low country boil <a href="http://events.constantcontact.com/register/event?llr=azqaulmab&amp\;oeidk=a07eg9fsh4o43324823">online</a>. Sponsorship opportunities available.</span>
LOCATION:Lexington Golf & Country Club 141 Country Club Road Lexington\, VA 24450
UID:e.2697.1329
SEQUENCE:3
DTSTAMP:20260422T171346Z
URL:https://business.lexrockchamber.com/events/details/22nd-annual-chamber-golf-classic-1329
END:VEVENT

END:VCALENDAR
