BEGIN:VCALENDAR
VERSION:2.0
PRODID:-//ChamberMaster//Event Calendar 2.0//EN
METHOD:PUBLISH
X-PUBLISHED-TTL:P3D
REFRESH-INTERVAL:P3D
CALSCALE:GREGORIAN
BEGIN:VEVENT
DTSTART:20250906T160000Z
DTEND:20250906T220000Z
X-MICROSOFT-CDO-ALLDAYEVENT:FALSE
SUMMARY:31st Annual Rockbridge Beer & Wine Festival
DESCRIPTION:The festival will return to Lime Kiln Theater on Saturday\, September 6\, 2025 with more vineyards and breweries than ever! Live music will play on two stages all afternoon\, so make plans to spend the day with us - gates open at 12:00 p.m. and the party will continue until 6:00 p.m.\n\n\n\nBe sure to "Like" us on Facebook for all of the latest updates!\n\n\n\nTicket sales are open! To purchase your tickets\, click this link: https://www.rockbridgebeerandwine.com/tickets\n\n\n\nCALLING ALL VINEYARDS AND WINERIES!  Online vendor registration is open! Secure your spot early! Register today.\n\n\n\nWOULD YOU LIKE TO SPONSOR THE FESTIVAL?  Email us for sponsorship opportunities.
X-ALT-DESC;FMTTYPE=text/html:<span style="font-size:14px\;"><span style="font-family:arial\;"><span style="background:white\;"><span style="color:#333333\;">The festival will return to Lime Kiln Theater on Saturday\, September 6\, 2025 with more vineyards and breweries than ever! Live music will play on two stages all afternoon\, so make plans to spend the day with us - gates open at 12:00 p.m. and the party will continue until 6:00 p.m.</span></span><br />\n<br />\n<span style="color:#6B6B6B\;"><span style="font-variant-ligatures:normal\;font-variant-caps:normal\;orphans:2\;text-align:start\;widows:2\;-webkit-text-stroke-width:0px\;text-decoration-thickness:initial\;text-decoration-style:initial\;word-spacing:0px\;">Be sure to &quot\;Like&quot\; us on&nbsp\;</span></span><a href="https://www.facebook.com/RBWFestival/" style="font-variant-ligatures:normal\;font-variant-caps:normal\;orphans:2\;text-align:start\;widows:2\;-webkit-text-stroke-width:0px\;box-sizing:content-box\;background-position:initial\;background-size:initial\;background-repeat:initial\;background-attachment:initial\;background-origin:initial\;background-clip:initial\;text-decoration-line:none\;transition:all 0.2s ease 0s\;inset:auto\;content:normal\;empty-cells:show\;font-variant-numeric:inherit\;font-variant-east-asian:inherit\;font-stretch:inherit\;line-height:inherit\;max-height:none\;max-width:none\;min-height:initial\;min-width:initial\;opacity:1\;outline-offset:0px\;resize:none\;text-overflow:clip\;word-break:inherit\;overflow-wrap:break-word\;border-width:initial\;border-image:none 100% 1 0 / 1 / 0 stretch\;border-radius:0px\;box-shadow:none\;float:none\;overflow:visible\;visibility:inherit\;word-spacing:0px\;z-index:auto\;"><span style="border:none windowtext 1.0pt\;padding:0in\;"><span style="color:#0294D0\;">Facebook</span></span></a><span style="color:#6B6B6B\;"><span style="font-variant-ligatures:normal\;font-variant-caps:normal\;orphans:2\;text-align:start\;widows:2\;-webkit-text-stroke-width:0px\;text-decoration-thickness:initial\;text-decoration-style:initial\;word-spacing:0px\;">&nbsp\;for all of the latest updates!</span></span></span></span><br />\n<br />\n<span style="color: rgb(107\, 107\, 107)\; font-family: arial\; font-size: 14px\;">Ticket sales are open! To purchase your tickets\, click this link:&nbsp\;</span><a href="https://www.rockbridgebeerandwine.com/tickets">https://www.rockbridgebeerandwine.com/tickets</a><br style="font-variant-ligatures:normal\;font-variant-caps:normal\;orphans:2\;text-align:start\;widows:2\;-webkit-text-stroke-width:0px\;text-decoration-thickness:initial\;text-decoration-style:initial\;box-sizing:content-box\;inset:auto\;content:normal\;empty-cells:show\;font-variant-numeric:inherit\;font-variant-east-asian:inherit\;font-stretch:inherit\;line-height:inherit\;max-height:none\;max-width:none\;min-height:initial\;min-width:initial\;opacity:1\;outline-offset:0px\;resize:none\;text-overflow:clip\;word-break:inherit\;overflow-wrap:inherit\;background-position:initial\;background-size:initial\;background-repeat:initial\;background-attachment:initial\;background-origin:initial\;background-clip:initial\;border-width:initial\;border-image:none 100% 1 0 / 1 / 0 stretch\;border-radius:0px\;float:none\;overflow:visible\;visibility:inherit\;word-spacing:0px\;z-index:auto\;" />\n<br style="font-variant-ligatures:normal\;font-variant-caps:normal\;orphans:2\;text-align:start\;widows:2\;-webkit-text-stroke-width:0px\;text-decoration-thickness:initial\;text-decoration-style:initial\;box-sizing:content-box\;inset:auto\;content:normal\;empty-cells:show\;font-variant-numeric:inherit\;font-variant-east-asian:inherit\;font-stretch:inherit\;line-height:inherit\;max-height:none\;max-width:none\;min-height:initial\;min-width:initial\;opacity:1\;outline-offset:0px\;resize:none\;text-overflow:clip\;word-break:inherit\;overflow-wrap:inherit\;background-position:initial\;background-size:initial\;background-repeat:initial\;background-attachment:initial\;background-origin:initial\;background-clip:initial\;border-width:initial\;border-image:none 100% 1 0 / 1 / 0 stretch\;border-radius:0px\;float:none\;overflow:visible\;visibility:inherit\;word-spacing:0px\;z-index:auto\;" />\n<span style="font-size:14px\;"><span style="font-family:arial\;"><strong><span style="border:none windowtext 1.0pt\;padding:0in\;"><span style="color:#6B6B6B\;"><span style="box-sizing:content-box\;inset:auto\;content:normal\;empty-cells:show\;font-style:inherit\;font-variant:inherit\;font-weight:inherit\;font-stretch:inherit\;letter-spacing:inherit\;max-height:none\;max-width:none\;min-height:initial\;min-width:initial\;opacity:1\;outline-offset:0px\;resize:none\;text-align:inherit\;text-indent:inherit\;text-overflow:clip\;text-transform:inherit\;white-space:inherit\;word-break:inherit\;word-spacing:inherit\;overflow-wrap:inherit\;border-width:initial\;border-image:none 100% 1 0 / 1 / 0 stretch\;border-radius:0px\;box-shadow:none\;overflow:visible\;visibility:inherit\;z-index:auto\;"><span style="color:inherit\;"><span style="font-variant-ligatures:normal\;font-variant-caps:normal\;orphans:2\;text-align:start\;widows:2\;-webkit-text-stroke-width:0px\;text-decoration-thickness:initial\;text-decoration-style:initial\;box-sizing:content-box\;inset:auto\;content:normal\;empty-cells:show\;font-variant-numeric:inherit\;font-variant-east-asian:inherit\;font-stretch:inherit\;max-height:none\;max-width:none\;min-height:initial\;min-width:initial\;opacity:1\;outline-offset:0px\;resize:none\;text-overflow:clip\;word-break:inherit\;overflow-wrap:inherit\;background-position:initial\;background-size:initial\;background-repeat:initial\;background-attachment:initial\;background-origin:initial\;background-clip:initial\;border-width:initial\;border-image:none 100% 1 0 / 1 / 0 stretch\;border-radius:0px\;box-shadow:none\;overflow:visible\;visibility:inherit\;word-spacing:0px\;z-index:auto\;">CALLING ALL VINEYARDS AND WINERIES!</span></span></span></span></span></strong>&nbsp\;&nbsp\;<span style="color:#6B6B6B\;"><span style="font-variant-ligatures:normal\;font-variant-caps:normal\;orphans:2\;text-align:start\;widows:2\;-webkit-text-stroke-width:0px\;text-decoration-thickness:initial\;text-decoration-style:initial\;word-spacing:0px\;">Online vendor registration is open! Secure your spot early! Register today.</span></span><br style="font-variant-ligatures:normal\;font-variant-caps:normal\;orphans:2\;text-align:start\;widows:2\;-webkit-text-stroke-width:0px\;text-decoration-thickness:initial\;text-decoration-style:initial\;word-spacing:0px\;" />\n<br style="font-variant-ligatures:normal\;font-variant-caps:normal\;orphans:2\;text-align:start\;widows:2\;-webkit-text-stroke-width:0px\;text-decoration-thickness:initial\;text-decoration-style:initial\;word-spacing:0px\;" />\n<strong><span style="border:none windowtext 1.0pt\;padding:0in\;"><span style="color:#6B6B6B\;"><span style="box-sizing:content-box\;inset:auto\;content:normal\;empty-cells:show\;font-style:inherit\;font-variant:inherit\;font-stretch:inherit\;letter-spacing:inherit\;max-height:none\;max-width:none\;min-height:initial\;min-width:initial\;opacity:1\;outline-offset:0px\;resize:none\;text-align:inherit\;text-indent:inherit\;text-overflow:clip\;text-transform:inherit\;white-space:inherit\;word-break:inherit\;word-spacing:inherit\;overflow-wrap:inherit\;border-width:initial\;border-image:none 100% 1 0 / 1 / 0 stretch\;border-radius:0px\;box-shadow:none\;overflow:visible\;visibility:inherit\;z-index:auto\;"><span style="color:inherit\;"><span style="font-variant-ligatures:normal\;font-variant-caps:normal\;orphans:2\;text-align:start\;widows:2\;-webkit-text-stroke-width:0px\;text-decoration-thickness:initial\;text-decoration-style:initial\;box-sizing:content-box\;inset:auto\;content:normal\;empty-cells:show\;font-variant-numeric:inherit\;font-variant-east-asian:inherit\;font-stretch:inherit\;max-height:none\;max-width:none\;min-height:initial\;min-width:initial\;opacity:1\;outline-offset:0px\;resize:none\;text-overflow:clip\;word-break:inherit\;overflow-wrap:inherit\;background-position:initial\;background-size:initial\;background-repeat:initial\;background-attachment:initial\;background-origin:initial\;background-clip:initial\;border-width:initial\;border-image:none 100% 1 0 / 1 / 0 stretch\;border-radius:0px\;box-shadow:none\;overflow:visible\;visibility:inherit\;word-spacing:0px\;z-index:auto\;">WOULD YOU LIKE TO SPONSOR THE FESTIVAL?</span></span></span></span></span></strong><span style="color:#6B6B6B\;"><span style="font-variant-ligatures:normal\;font-variant-caps:normal\;orphans:2\;text-align:start\;widows:2\;-webkit-text-stroke-width:0px\;text-decoration-thickness:initial\;text-decoration-style:initial\;word-spacing:0px\;">&nbsp\;&nbsp\;<a href="mailto:info@lexrockchamber.com?subject=2023%20Beer%20%26%20Wine%20Sponsorship"><span style="color:#0782C1\;">Email us</span></a>&nbsp\;for sponsorship opportunities.&nbsp\;</span></span></span></span>
LOCATION:Lime Kiln Theater 607 Bordon Road Lexington\, VA 24450
UID:e.2697.2027
SEQUENCE:3
DTSTAMP:20260419T172435Z
URL:https://business.lexrockchamber.com/events/details/31st-annual-rockbridge-beer-wine-festival-2027
END:VEVENT

END:VCALENDAR
