BEGIN:VCALENDAR
VERSION:2.0
PRODID:-//ChamberMaster//Event Calendar 2.0//EN
METHOD:PUBLISH
X-PUBLISHED-TTL:P3D
REFRESH-INTERVAL:P3D
CALSCALE:GREGORIAN
BEGIN:VEVENT
DTSTART:20260611T210000Z
DTEND:20260611T230000Z
X-MICROSOFT-CDO-ALLDAYEVENT:FALSE
SUMMARY:Business After Hours
DESCRIPTION:Network and socialize with business associates and other members in a relaxed setting. Hosted by a different Chamber member each month.
X-ALT-DESC;FMTTYPE=text/html:Network and socialize with business associates and other members in a relaxed setting. Hosted by a different Chamber member each month.&nbsp\;
LOCATION:
UID:e.2697.2151
SEQUENCE:3
DTSTAMP:20260423T045108Z
URL:https://business.lexrockchamber.com/events/details/business-after-hours-06-11-2026-2151
END:VEVENT

END:VCALENDAR
