BEGIN:VCALENDAR
VERSION:2.0
PRODID:-//ChamberMaster//Event Calendar 2.0//EN
METHOD:PUBLISH
X-PUBLISHED-TTL:P3D
REFRESH-INTERVAL:P3D
CALSCALE:GREGORIAN
BEGIN:VEVENT
DTSTART:20230216T220000Z
DTEND:20230217T000000Z
X-MICROSOFT-CDO-ALLDAYEVENT:FALSE
SUMMARY:Business After Hours - Mountain City Masonic Lodge
DESCRIPTION:Network and socialize with business associates and other members in a relaxed setting. Hosted by a different Chamber member each month.
X-ALT-DESC;FMTTYPE=text/html:Network and socialize with business associates and other members in a relaxed setting. Hosted by a different Chamber member each month.&nbsp\;
LOCATION:Mountain City Masonic Lodge
UID:e.2697.1882
SEQUENCE:3
DTSTAMP:20260420T070147Z
URL:https://business.lexrockchamber.com/events/details/business-after-hours-mountain-city-masonic-lodge-1882
END:VEVENT

END:VCALENDAR
