BEGIN:VCALENDAR
VERSION:2.0
PRODID:-//ChamberMaster//Event Calendar 2.0//EN
METHOD:PUBLISH
X-PUBLISHED-TTL:P3D
REFRESH-INTERVAL:P3D
CALSCALE:GREGORIAN
BEGIN:VEVENT
DTSTART:20240718T210000Z
DTEND:20240718T230000Z
X-MICROSOFT-CDO-ALLDAYEVENT:FALSE
SUMMARY:Business After Hours - Virginia Military Institute
DESCRIPTION:Network and socialize with business associates and other members in a relaxed setting. Hosted by a different Chamber member each month.
X-ALT-DESC;FMTTYPE=text/html:Network and socialize with business associates and other members in a relaxed setting. Hosted by a different Chamber member each month.&nbsp\;
LOCATION:Virginia Military Institute Museum Memorial Hall 415 Letcher Avenue Lexington\, VA 24450
UID:e.2697.1940
SEQUENCE:3
DTSTAMP:20260422T102522Z
URL:https://business.lexrockchamber.com/events/details/business-after-hours-virginia-military-institute-1940
END:VEVENT

END:VCALENDAR
