BEGIN:VCALENDAR
VERSION:2.0
PRODID:-//ChamberMaster//Event Calendar 2.0//EN
METHOD:PUBLISH
X-PUBLISHED-TTL:P3D
REFRESH-INTERVAL:P3D
CALSCALE:GREGORIAN
BEGIN:VEVENT
DTSTART:20190510T120000Z
DTEND:20190510T130000Z
X-MICROSOFT-CDO-ALLDAYEVENT:FALSE
SUMMARY:Business @ Breakfast: Why Business Should Invest in Community Health
DESCRIPTION:Wellness begins in communities where people live\, learn\, work\, and play. Maurissa Mursch-Medina\, Business Wellness Manager with Carilion Clinic\, will speak to the impact that wellness initiatives can have on the community's workforce\, and how those efforts go beyond just the business that implements the initiative.\n\n\n\nConditions permitting\, a tour of the CSJH hangar will follow for those interested.\n\n\n\nDoors open at 7:45 a.m.\n\n\n\nMembers: $5\n\nNon-Members: $15
X-ALT-DESC;FMTTYPE=text/html:<span style="font-size:14px\;"><span style="font-family:arial\;"><span style="color: rgb(0\, 0\, 0)\;">Wellness begins in communities where people live\, learn\, work\, and play. Maurissa Mursch-Medina\, Business Wellness Manager with Carilion Clinic\, will speak to the impact that wellness initiatives can have on the community&#39\;s workforce\, and how those efforts go beyond just the business that implements the initiative.<br />\n<br />\nConditions permitting\, a tour of the CSJH hangar will follow for those interested.<br />\n<br />\nDoors open at 7:45 a.m.<br />\n<br />\nMembers: $5<br />\nNon-Members: $15</span></span></span>
LOCATION:Carilion Stonewall Jackson Hospital Ground Floor Conference Room 1 Health Circle Lexington\, VA 24450
UID:e.2697.1335
SEQUENCE:3
DTSTAMP:20260422T160233Z
URL:https://business.lexrockchamber.com/events/details/business-breakfast-why-business-should-invest-in-community-health-1335
END:VEVENT

END:VCALENDAR
