BEGIN:VCALENDAR
VERSION:2.0
PRODID:-//ChamberMaster//Event Calendar 2.0//EN
METHOD:PUBLISH
X-PUBLISHED-TTL:P3D
REFRESH-INTERVAL:P3D
CALSCALE:GREGORIAN
BEGIN:VEVENT
DTSTART:20260109T140000Z
DTEND:20260109T170000Z
X-MICROSOFT-CDO-ALLDAYEVENT:FALSE
SUMMARY:Chamber Office Ribbon Cutting - Kick Off the New Year with Us!
DESCRIPTION:Open House | Friday\, January 9\, 2026 | 9:00 AM   12:00 PM\n\nRibbon Cutting at 11:00 AM \n\nChamber Office\n\nJump-start your 2026 success! Come celebrate the new year\, get inspired\, and connect with your Chamber community. \n\nJoin the Chamber and our partners for a festive New Year Open House designed to help you maximize your membership in the year ahead.\n\n	Discover member benefits you may not be using yet\n	Explore marketing and sponsorship opportunities for greater visibility\n	Learn how to leverage your Chamber membership to grow your business in 2026\n	Connect with fellow members\, partners\, and the Chamber team\n\nWe can't wait to welcome you\, share what's new\, and kick off a successful year together!
X-ALT-DESC;FMTTYPE=text/html:<strong>Open House | Friday\, January 9\, 2026 | 9:00 AM &ndash\; 12:00 PM<br />\nRibbon Cutting at 11:00 AM&nbsp\;</strong><br />\n<strong>Chamber Office</strong><br />\n<strong>Jump-start your 2026 success! Come celebrate the new year\, get inspired\, and connect with your Chamber community. </strong><br />\nJoin the Chamber and our partners for a festive New Year Open House designed to help you maximize your membership in the year ahead.\n<ul>\n	<li>Discover <strong>member benefits</strong> you may not be using yet</li>\n	<li>Explore <strong>marketing and sponsorship opportunities</strong> for greater visibility</li>\n	<li>Learn how to leverage your Chamber membership to <strong>grow your business in 2026</strong></li>\n	<li>Connect with fellow members\, partners\, and the Chamber team</li>\n</ul>\nWe can&rsquo\;t wait to welcome you\, share what&rsquo\;s new\, and kick off a successful year together!
LOCATION:Chamber of Commerce 18 East Nelson Street\, Suite 101 Lexington\, VA 24450
UID:e.2697.2143
SEQUENCE:3
DTSTAMP:20260423T074356Z
URL:https://business.lexrockchamber.com/events/details/chamber-office-ribbon-cutting-kick-off-the-new-year-with-us-2143
END:VEVENT

END:VCALENDAR
