BEGIN:VCALENDAR
VERSION:2.0
PRODID:-//ChamberMaster//Event Calendar 2.0//EN
METHOD:PUBLISH
X-PUBLISHED-TTL:P3D
REFRESH-INTERVAL:P3D
CALSCALE:GREGORIAN
BEGIN:VEVENT
DTSTART;VALUE=DATE:20260501
DTEND;VALUE=DATE:20260502
TRANSP:TRANSPARENT
X-MICROSOFT-CDO-ALLDAYEVENT:TRUE
SUMMARY:Chamber Scholarships Due
DESCRIPTION:The Chamber Awards 2 High School Scholarships to graduating Seniors each year.
X-ALT-DESC;FMTTYPE=text/html:The Chamber Awards 2 High School Scholarships to graduating Seniors each year.&nbsp\;
LOCATION:
UID:e.2697.2168
SEQUENCE:3
DTSTAMP:20260424T205746Z
URL:https://business.lexrockchamber.com/events/details/chamber-scholarships-due-2168
END:VEVENT

END:VCALENDAR
