BEGIN:VCALENDAR
VERSION:2.0
PRODID:-//ChamberMaster//Event Calendar 2.0//EN
METHOD:PUBLISH
X-PUBLISHED-TTL:P3D
REFRESH-INTERVAL:P3D
CALSCALE:GREGORIAN
BEGIN:VEVENT
DTSTART:20260729T210000Z
DTEND:20260730T000000Z
X-MICROSOFT-CDO-ALLDAYEVENT:FALSE
SUMMARY:Cheers With The Chamber
DESCRIPTION:Join us at Cheers with the Chamber - our annual "pre-party" for the Beer & Wine Festival and fundraiser for the Lexington-Rockbridge Chamber of Commerce scholarship fund.
X-ALT-DESC;FMTTYPE=text/html:<span style="box-sizing: border-box\; color: rgb(107\, 107\, 107)\; font-family: arial\; font-size: 12px\; border: 1pt none windowtext\; padding: 0in\;">Join us at Cheers with the Chamber - our annual &quot\;pre-party&quot\; for the Beer &amp\; Wine Festival and fundraiser for the Lexington-Rockbridge Chamber of Commerce scholarship fund. &nbsp\;</span><br style="box-sizing: border-box\; color: rgb(107\, 107\, 107)\; font-family: arial\; font-size: 12px\;" />\n<span style="box-sizing: border-box\; color: rgb(107\, 107\, 107)\; font-family: arial\; font-size: 12px\; outline: 0px\;">&#8203\;</span><br style="box-sizing: border-box\; color: rgb(107\, 107\, 107)\; font-family: arial\; font-size: 12px\;" />\n&nbsp\;
LOCATION:
UID:e.2697.2118
SEQUENCE:3
DTSTAMP:20260423T074158Z
URL:https://business.lexrockchamber.com/events/details/cheers-with-the-chamber-2118
END:VEVENT

END:VCALENDAR
