BEGIN:VCALENDAR
VERSION:2.0
PRODID:-//ChamberMaster//Event Calendar 2.0//EN
METHOD:PUBLISH
X-PUBLISHED-TTL:P3D
REFRESH-INTERVAL:P3D
CALSCALE:GREGORIAN
BEGIN:VEVENT
DTSTART:20260506T123000Z
DTEND:20260506T140000Z
X-MICROSOFT-CDO-ALLDAYEVENT:FALSE
SUMMARY:Coffee and Conversation - Focus Fitness in Buena Vista
DESCRIPTION:Connect with your fellow members at our Coffee & Conversation networking event at Focus Fitness in Buena Vista\, a relaxed and welcoming opportunity to build meaningful connections within our business community.\n\n\n\nEnjoy fresh coffee and pastries while engaging in casual\, yet purposeful conversations\, sharing ideas\, and discovering new opportunities for collaboration. Whether you're looking to grow your network\, exchange insights\, or simply start your day with great company\, this event offers the perfect setting to connect and engage.\n\n\n\nChamber events are open and free\, as always\, to our members\, invited guests\, and those interested in becoming a member of the Chamber.
X-ALT-DESC;FMTTYPE=text/html:Connect with your fellow members at our Coffee &amp\; Conversation networking event at Focus Fitness in Buena Vista\, a relaxed and welcoming opportunity to build meaningful connections within our business community.<br />\n<br />\nEnjoy fresh coffee and pastries while engaging in casual\, yet purposeful conversations\, sharing ideas\, and discovering new opportunities for collaboration. Whether you&rsquo\;re looking to grow your network\, exchange insights\, or simply start your day with great company\, this event offers the perfect setting to connect and engage.<br />\n<br />\nChamber events are open and free\, as always\, to our members\, invited guests\, and those interested in becoming a member of the Chamber.<span style="background:white\;"><span style="color:#1D2129\;"><span style="font-family:inherit\,serif\;"><span style="font-size:10.5pt\;"> </span></span></span></span>
LOCATION:2520 Beech Avenue Buena Vista\, VA
UID:e.2697.2110
SEQUENCE:3
DTSTAMP:20260421T184119Z
URL:https://business.lexrockchamber.com/events/details/coffee-and-conversation-focus-fitness-in-buena-vista-2110
END:VEVENT

END:VCALENDAR
