BEGIN:VCALENDAR
VERSION:2.0
PRODID:-//ChamberMaster//Event Calendar 2.0//EN
METHOD:PUBLISH
X-PUBLISHED-TTL:P3D
REFRESH-INTERVAL:P3D
CALSCALE:GREGORIAN
BEGIN:VEVENT
DTSTART:20250711T120000Z
DTEND:20250711T140000Z
X-MICROSOFT-CDO-ALLDAYEVENT:FALSE
SUMMARY:First Friday Summer Speaker Series: VA250
DESCRIPTION:Join us for our First Friday's Speaker Series on Friday\, July 11 where we kick-off our local Rockbridge VA250 Celebration\, commemorating America's Revolutionary War\, and the revolutionary experiences that have spanned two and half centuries of local and national history\, since "The Spirit of '76."\n\n\n\nCoffee and a light Breakfast will be served. \n\n\n\nFor the most up to date information\, visit VA250.org/Rockbridge. \n\n\n\nSheryl Wagner is the Co-Chair of the Rockbridge - VA250 Advisory Committee. She also serves as the Executive Director of Lexington and the Rockbridge Area Tourism\, where she leads efforts to promote the region's natural beauty\, historic charm\, and cultural assets. Sheryl graduated from Randolph-Macon College with a degree in Business and Economics and earned her Master's degree in Tourism Administration from The George Washington University. Recently\, she completed a certificate program for the Virginia Women's Municipal Leadership Institute at Virginia Polytechnic Institute and State University. With over 28 years of experience in tourism and hospitality within the public sector\, Sheryl focuses on destination marketing and strategic planning. Her leadership style emphasizes collaboration\, sustainability\, and enriching the visitor experience.\n\n\n\nEric Wilson is Co-Chair of the Rockbridge-VA250 Advisory Committee\, Executive Director of the Rockbridge Historical Society\, and a faculty member at Lexington City Schools. For over 15 years\, he has produced cultural programs in history\, the arts\, and lifelong learning across Rockbridge and Virginia's museum community.\n\nEducated at Brown\, Harvard\, and Cambridge (UK)\, Wilson has taught literature\, Shakespeare\, Women's and African American Studies at Boston College and Washington & Lee. He also co-directed UVA's Summer Enrichment Program and has taught Humanities for two decades in Virginia schools.\n\nAs a public historian\, he has served as Director for History with the Virginia Association of Museums and helped found museums in Portsmouth and Lexington\, VA.
X-ALT-DESC;FMTTYPE=text/html:<span style="color: rgb(0\, 0\, 0)\; font-family: arial\; font-size: 14px\;">Join us for our First Friday&#39\;s Speaker Series on Friday\, July 11 where we kick-off our local Rockbridge VA250 Celebration</span><i style="color: rgb(0\, 0\, 0)\; font-family: arial\; font-size: 14px\;">\,&nbsp\;</i><i style="color: rgb(0\, 0\, 0)\; font-family: arial\; font-size: 14px\;">commemorating America&#39\;s Revolutionary War\, and the revolutionary experiences that&nbsp\;have spanned two and half centuries of local and national history\, since &quot\;The Spirit of &#39\;76.&quot\;</i><br />\n<br />\n<span style="font-size:14px\;"><span style="font-family:arial\;">Coffee and a light Breakfast will be served.&nbsp\;</span></span><br />\n<br />\nFor the most up to date information\, visit <a href="https://va250.org/rockbridge/">VA250.org/Rockbridge</a>.&nbsp\;<br />\n<br />\n<span style="font-size:14px\;"><span style="font-family:arial\;"><strong>Sheryl Wagner</strong> is the Co-Chair of the Rockbridge - VA250 Advisory Committee. She also serves as the Executive Director of Lexington and the Rockbridge Area Tourism\, where she leads efforts to promote the region&#39\;s natural beauty\, historic charm\, and cultural assets. Sheryl graduated from Randolph-Macon College with a degree in Business and Economics and earned her Master&#39\;s degree in Tourism Administration from The George Washington University. Recently\, she completed a certificate program for the Virginia Women&rsquo\;s Municipal Leadership Institute at Virginia Polytechnic Institute and State University. With over 28 years of experience in tourism and hospitality within the public sector\, Sheryl focuses on destination marketing and strategic planning. Her leadership style emphasizes collaboration\, sustainability\, and enriching the visitor experience.<br />\n<br />\n<strong>Eric Wilson</strong> is Co-Chair of the Rockbridge-VA250 Advisory Committee\, Executive Director of the Rockbridge Historical Society\, and a faculty member at Lexington City Schools. For over 15 years\, he has produced cultural programs in history\, the arts\, and lifelong learning across Rockbridge and Virginia&#39\;s museum community.<br />\nEducated at Brown\, Harvard\, and Cambridge (UK)\, Wilson has taught literature\, Shakespeare\, Women&rsquo\;s and African American Studies at Boston College and Washington &amp\; Lee. He also co-directed UVA&rsquo\;s Summer Enrichment Program and has taught Humanities for two decades in Virginia schools.<br />\nAs a public historian\, he has served as Director for History with the Virginia Association of Museums and helped found museums in Portsmouth and Lexington\, VA.</span></span><br />\n&nbsp\;
LOCATION:Hampton Inn Col Alto 401 E. Nelson Street Lexington\, VA 24450
UID:e.2697.2082
SEQUENCE:3
DTSTAMP:20260419T153154Z
URL:https://business.lexrockchamber.com/events/details/first-friday-summer-speaker-series-va250-2082
END:VEVENT

END:VCALENDAR
