BEGIN:VCALENDAR
VERSION:2.0
PRODID:-//ChamberMaster//Event Calendar 2.0//EN
METHOD:PUBLISH
X-PUBLISHED-TTL:P3D
REFRESH-INTERVAL:P3D
CALSCALE:GREGORIAN
BEGIN:VEVENT
DTSTART:20260703T210000Z
DTEND:20260704T020000Z
X-MICROSOFT-CDO-ALLDAYEVENT:FALSE
SUMMARY:Freedom Food Festival
DESCRIPTION:On July 3\, Main Street in downtown Lexington is converted into a community street and music festival featuring live music\, beer/wine sales\, desserts\, and tasty July 4th picnic-style fare. This fundraiser pairs local celebrity chefs and restaurants with area non-profits in a festive\, family-friendly atmosphere. FREE admission. Rain or Shine. \n\n\n\nComplete info and meal tickets here.https://freedomfoodfestival.com/
X-ALT-DESC;FMTTYPE=text/html:<span style="font-family:arial\;"><span style="color: rgb(5\, 5\, 5)\; white-space-collapse: preserve\;">On July 3\, Main Street in downtown Lexington is converted into a community street and music festival featuring live music\, beer/wine sales\, desserts\, and tasty July 4th picnic-style fare. This fundraiser pairs local celebrity chefs and restaurants with area non-profits in a festive\, family-friendly atmosphere. FREE admission. Rain or Shine. </span><br />\n<br />\n<span style="color: rgb(54\, 54\, 54)\;">Complete info and meal tickets here.<a href="https://freedomfoodfestival.com/">https://freedomfoodfestival.com/</a></span></span>
LOCATION:Downtown Lexington\, VA
UID:e.2697.2115
SEQUENCE:3
DTSTAMP:20260423T073845Z
URL:https://business.lexrockchamber.com/events/details/freedom-food-festival-2115
END:VEVENT

END:VCALENDAR
