BEGIN:VCALENDAR
VERSION:2.0
PRODID:-//ChamberMaster//Event Calendar 2.0//EN
METHOD:PUBLISH
X-PUBLISHED-TTL:P3D
REFRESH-INTERVAL:P3D
CALSCALE:GREGORIAN
BEGIN:VEVENT
DTSTART:20251204T133000Z
DTEND:20251204T160000Z
X-MICROSOFT-CDO-ALLDAYEVENT:FALSE
SUMMARY:Gingerbread House Contest
DESCRIPTION:Showcase your business or organization by creating and decorating a gingerbread house that represents Your Business\, brand\, or mission.\n\nWho Can Participate?\n\n\n	Any local business or organization is welcome to enter it's free to participate!\n\n\nWhen & Where to Drop Off:\n\n\n	All gingerbread houses must be dropped off at The Patton Room between 3-5 PM on Wednesday\, December 3. The winning houses will be taken for display throughout the holiday season. If you would like your house returned after the event\, please plan to pick it up no later than noon on Dec. 4. \n\n\nJudging & Winner Announcement:\n\n\n	Please be sure your display board is no larger than 24in. x 24in. and that all materials used are edible. \n	Gingerbread houses will be judged during Keep The Cheer Here on Dec. 4. The winner will be announced at The Realtors meeting that evening.\n\n\nHow to Vote:\n\n\n	Drop off a toy at Keep The Cheer Here in exchange for a vote.
X-ALT-DESC;FMTTYPE=text/html:<p class="cvGsUA direction-ltr align-center para-style-body" style="color: rgb(169\, 28\, 49)\; font-family: &quot\;YAEtNNubReg 0&quot\;\, _fb_\, auto\; --cyV3ZQ: 16px\; --gJPlXQ: 1.4\; text-transform: uppercase\; line-height: 22px\;"><span style="color:#000000\;"><span style="font-family:arial\;"><span class="OYPEnA font-feature-liga-off font-feature-clig-off font-feature-calt-off text-decoration-none text-strikethrough-none" style="font-weight: 700\; font-kerning: none\;">Showcase your business or organization by creating and decorating a gingerbread house that represents Your&nbsp\;Business\, brand\, or mission.</span></span></span><br />\n<span style="font-family:arial\;"><span style="color:#000000\;"><span class="OYPEnA font-feature-liga-off font-feature-clig-off font-feature-calt-off text-decoration-none text-strikethrough-none" style="font-weight: 700\; font-kerning: none\;">Who Can Participate?</span></span></span></p>\n\n<ul>\n	<li><span style="font-family:arial\;"><span style="color:#000000\;"><span class="OYPEnA font-feature-liga-off font-feature-clig-off font-feature-calt-off text-decoration-none text-strikethrough-none" style="font-kerning: none\;">Any local business or organization is welcome to enter&mdash\;it&#39\;s free to participate!</span></span></span></li>\n</ul>\n\n<p class="cvGsUA direction-ltr align-start para-style-body" style="color: rgb(71\, 26\, 8)\; font-family: &quot\;YAFdJhem5V8 1&quot\;\, _fb_\, auto\; --cyV3ZQ: 42.7056px\; --gJPlXQ: 1.4\; line-height: 59px\;"><span style="font-family:arial\;"><span style="color:#000000\;"><span class="OYPEnA font-feature-liga-off font-feature-clig-off font-feature-calt-off text-decoration-none text-strikethrough-none" style="font-weight: 700\; font-kerning: none\;">When &amp\; Where to Drop Off:</span></span></span></p>\n\n<ul>\n	<li><span style="font-family:arial\;"><span style="color:#000000\;"><span class="OYPEnA font-feature-liga-off font-feature-clig-off font-feature-calt-off text-decoration-none text-strikethrough-none" style="font-kerning: none\;">All gingerbread houses must be dropped off at The Patton Room between 3-5 PM on Wednesday\, December 3. The winning houses will be taken for display throughout the holiday season. If you would like your house returned after the event\, please plan to pick it up no later than noon on Dec. 4.&nbsp\;</span></span></span></li>\n</ul>\n\n<p class="cvGsUA direction-ltr align-start para-style-body" style="color: rgb(71\, 26\, 8)\; font-family: &quot\;YAFdJhem5V8 1&quot\;\, _fb_\, auto\; --cyV3ZQ: 42.7056px\; --gJPlXQ: 1.4\; line-height: 59px\;"><span style="font-family:arial\;"><span style="color:#000000\;"><span class="OYPEnA font-feature-liga-off font-feature-clig-off font-feature-calt-off text-decoration-none text-strikethrough-none" style="font-weight: 700\; font-kerning: none\;">Judging &amp\; Winner Announcement:</span></span></span></p>\n\n<ul>\n	<li><span style="font-family:arial\;"><span style="color:#000000\;"><span class="OYPEnA font-feature-liga-off font-feature-clig-off font-feature-calt-off text-decoration-none text-strikethrough-none" style="font-kerning: none\;">Please be sure your display board is no larger than 24in. x 24in. and that all materials used are edible.</span><span class="OYPEnA font-feature-liga-off font-feature-clig-off font-feature-calt-off text-decoration-none text-strikethrough-none white-space-prewrap" style="font-kerning: none\;"> </span></span></span></li>\n	<li><span style="font-family:arial\;"><span style="color:#000000\;"><span class="OYPEnA font-feature-liga-off font-feature-clig-off font-feature-calt-off text-decoration-none text-strikethrough-none" style="font-kerning: none\;">Gingerbread houses will be judged during </span><span class="OYPEnA font-feature-liga-off font-feature-clig-off font-feature-calt-off text-decoration-none text-strikethrough-none" style="font-style: italic\; font-kerning: none\;">Keep The Cheer Here</span><span class="OYPEnA font-feature-liga-off font-feature-clig-off font-feature-calt-off text-decoration-none text-strikethrough-none" style="font-kerning: none\;"> on Dec. 4. The winner will be announced at The Realtors meeting that evening.</span></span></span></li>\n</ul>\n\n<p class="cvGsUA direction-ltr align-start para-style-body" style="color: rgb(71\, 26\, 8)\; font-family: &quot\;YAFdJhem5V8 1&quot\;\, _fb_\, auto\; --cyV3ZQ: 42.7056px\; --gJPlXQ: 1.4\; line-height: 59px\;"><span style="font-family:arial\;"><span style="color:#000000\;"><span class="OYPEnA font-feature-liga-off font-feature-clig-off font-feature-calt-off text-decoration-none text-strikethrough-none" style="font-weight: 700\; font-kerning: none\;">How to Vote:</span></span></span></p>\n\n<ul>\n	<li><span style="font-family:arial\;"><span style="color:#000000\;"><span class="OYPEnA font-feature-liga-off font-feature-clig-off font-feature-calt-off text-decoration-none text-strikethrough-none" style="font-kerning: none\;">Drop off a toy at </span><span class="OYPEnA font-feature-liga-off font-feature-clig-off font-feature-calt-off text-decoration-none text-strikethrough-none" style="font-style: italic\; font-kerning: none\;">Keep The Cheer Here </span><span class="OYPEnA font-feature-liga-off font-feature-clig-off font-feature-calt-off text-decoration-none text-strikethrough-none" style="font-kerning: none\;">in exchange for a vote.</span></span></span></li>\n</ul>\n
LOCATION:Patton Room at The Georges 11 North Main Street Lexington\, VA 24450
UID:e.2697.2135
SEQUENCE:3
DTSTAMP:20260423T085725Z
URL:https://business.lexrockchamber.com/events/details/gingerbread-house-contest-2135
END:VEVENT

END:VCALENDAR
