BEGIN:VCALENDAR
VERSION:2.0
PRODID:-//ChamberMaster//Event Calendar 2.0//EN
METHOD:PUBLISH
X-PUBLISHED-TTL:P3D
REFRESH-INTERVAL:P3D
CALSCALE:GREGORIAN
BEGIN:VEVENT
DTSTART:20250826T123000Z
DTEND:20250722T140000Z
X-MICROSOFT-CDO-ALLDAYEVENT:FALSE
SUMMARY:Government Affairs Roundtable
DESCRIPTION:Join the Chamber Government Affairs Committee for an informal roundtable discussion with Mayor Frank Friedman and City Manager Tom Carroll from the City of Lexington.\n\nCoffee and light breakfast will be served. Registration requested.
X-ALT-DESC;FMTTYPE=text/html:<span style="font-family:arial\;"><span style="font-size:14px\;">Join the Chamber Government Affairs Committee for an informal roundtable discussion with Mayor Frank Friedman and City Manager Tom Carroll from the City of Lexington.</span><br />\n<span style="font-size:14px\;">Coffee and light breakfast will be served. Registration requested.&nbsp\;</span></span>
LOCATION:Washington & Lee University's Community Meeting Room at Courthouse Square.
UID:e.2697.2039
SEQUENCE:3
DTSTAMP:20260419T172021Z
URL:https://business.lexrockchamber.com/events/details/government-affairs-roundtable-2039
END:VEVENT

END:VCALENDAR
