BEGIN:VCALENDAR
VERSION:2.0
PRODID:-//ChamberMaster//Event Calendar 2.0//EN
METHOD:PUBLISH
X-PUBLISHED-TTL:P3D
REFRESH-INTERVAL:P3D
CALSCALE:GREGORIAN
BEGIN:VEVENT
DTSTART;VALUE=DATE:20260721
DTEND;VALUE=DATE:20260722
TRANSP:TRANSPARENT
X-MICROSOFT-CDO-ALLDAYEVENT:TRUE
SUMMARY:Government Affairs Roundtable
DESCRIPTION:Join us for a discussion with a local government representative! Time\, location\, and participant to be announced.
X-ALT-DESC;FMTTYPE=text/html:Join us for a discussion with a local government representative! Time\, location\, and participant to be announced.
LOCATION:
UID:e.2697.2117
SEQUENCE:3
DTSTAMP:20260423T073612Z
URL:https://business.lexrockchamber.com/events/details/government-affairs-roundtable-2117
END:VEVENT

END:VCALENDAR
