BEGIN:VCALENDAR
VERSION:2.0
PRODID:-//ChamberMaster//Event Calendar 2.0//EN
METHOD:PUBLISH
X-PUBLISHED-TTL:P3D
REFRESH-INTERVAL:P3D
CALSCALE:GREGORIAN
BEGIN:VEVENT
DTSTART:20260225T133000Z
DTEND:20260225T150000Z
X-MICROSOFT-CDO-ALLDAYEVENT:FALSE
SUMMARY:Government Affairs Roundtable - Forest Service
DESCRIPTION:Join the Chamber Government Affairs Committee for an informal roundtable discussion with \n\nLauren Stull\, the District Ranger for the Glenwood & Pedlar Ranger District on the George Washington & Jefferson National Forest.  Lauren has worked for the U.S. Department of Agriculture's Forest Service for 18 years.  Her previous positions include serving as a District Ranger on the Nantahala National Forest in North Carolina and other positions in North Carolina and Florida.  Lauren received a bachelor's degree in forestry and master's degrees in forestry and public administration from Virginia Tech.  Lauren and her husband have 3 children\, and Lauren spends her free time enjoying the outdoors and gardening. \n\n \n\nCoffee and light breakfast will be served. Registration requested.
X-ALT-DESC;FMTTYPE=text/html:Join the Chamber Government Affairs Committee for an informal roundtable discussion with&nbsp\;<br />\nLauren Stull\, the District Ranger for the Glenwood &amp\; Pedlar Ranger District on the George Washington &amp\; Jefferson National Forest.&nbsp\; Lauren has worked for the U.S. Department of Agriculture&rsquo\;s Forest Service for 18 years.&nbsp\; Her previous positions include serving as a District Ranger on the Nantahala National Forest in North Carolina and other positions in North Carolina and Florida.&nbsp\; Lauren received a bachelor&rsquo\;s degree in forestry and master&rsquo\;s degrees in forestry and public administration from Virginia Tech.&nbsp\; Lauren and her husband have 3 children\, and Lauren spends her free time enjoying the outdoors and gardening.&nbsp\;<br />\n<span style="font-family:arial\;"><span style="font-size:14px\;">&nbsp\;</span><br />\n<span style="font-size:14px\;">Coffee and light breakfast will be served. Registration requested.&nbsp\;</span></span>
LOCATION:Natural Bridge Historic Hotel and Conference Center 15 Appledore Ln. Natural Bridge\, VA 24578
UID:e.2697.2041
SEQUENCE:3
DTSTAMP:20260423T060942Z
URL:https://business.lexrockchamber.com/events/details/government-affairs-roundtable-forest-service-2041
END:VEVENT

END:VCALENDAR
