BEGIN:VCALENDAR
VERSION:2.0
PRODID:-//ChamberMaster//Event Calendar 2.0//EN
METHOD:PUBLISH
X-PUBLISHED-TTL:P3D
REFRESH-INTERVAL:P3D
CALSCALE:GREGORIAN
BEGIN:VEVENT
DTSTART:20250826T123000Z
DTEND:20250826T140000Z
X-MICROSOFT-CDO-ALLDAYEVENT:FALSE
SUMMARY:Government Affairs Roundtable - Lexington City Government
DESCRIPTION:Join the Chamber Government Affairs Committee for an informal roundtable discussion with Lexington city officials. \n\n\n\nCoffee and light breakfast will be served. Registration requested.
X-ALT-DESC;FMTTYPE=text/html:<span style="font-family:arial\;"><span style="font-size:14px\;">Join the Chamber Government Affairs Committee for an informal roundtable discussion with Lexington city officials.&nbsp\;</span><br />\n<br />\n<span style="font-size:14px\;">Coffee and light breakfast will be served. Registration requested.&nbsp\;</span></span>
LOCATION:Community Room W & L University - Old Courthouse 2 S. Main Street Lexington\, VA 24450
UID:e.2697.2069
SEQUENCE:3
DTSTAMP:20260419T172442Z
URL:https://business.lexrockchamber.com/events/details/government-affairs-roundtable-lexington-city-government-2069
END:VEVENT

END:VCALENDAR
