BEGIN:VCALENDAR
VERSION:2.0
PRODID:-//ChamberMaster//Event Calendar 2.0//EN
METHOD:PUBLISH
X-PUBLISHED-TTL:P3D
REFRESH-INTERVAL:P3D
CALSCALE:GREGORIAN
BEGIN:VEVENT
DTSTART:20260519T123000Z
DTEND:20260519T133000Z
X-MICROSOFT-CDO-ALLDAYEVENT:FALSE
SUMMARY:Government Affairs Roundtable: RARO
DESCRIPTION:Join us for an engaging roundtable discussion with Rockbridge Area Recreation Organization (RARO) Director\, Chad Coffey. Get an inside look at the exciting new initiatives RARO is bringing to our community and learn how you can get involved in local sports and recreation.\n\nFrom volunteer opportunities to sponsorships and partnerships\, discover the many ways to support and enhance recreation in the Rockbridge area. Whether you're a business leader\, community member\, or sports enthusiast\, this is a great opportunity to connect\, learn\, and be part of what's ahead.
X-ALT-DESC;FMTTYPE=text/html:<div class="flex flex-col text-sm pb-25">\n<section class="text-token-text-primary w-full focus:outline-none [--shadow-height:45px] has-data-writing-block:pointer-events-none has-data-writing-block:-mt-(--shadow-height) has-data-writing-block:pt-(--shadow-height) [&amp\;:has([data-writing-block])&gt\;*]:pointer-events-auto scroll-mt-[calc(var(--header-height)+min(200px\,max(70px\,20svh)))]" data-scroll-anchor="true" data-testid="conversation-turn-6" data-turn="assistant" data-turn-id="request-WEB:edf5e8d9-89b7-4316-a5a9-56d1af2e565b-2" dir="auto">\n<div class="text-base my-auto mx-auto pb-10 [--thread-content-margin:var(--thread-content-margin-xs\,calc(var(--spacing)*4))] @w-sm/main:[--thread-content-margin:var(--thread-content-margin-sm\,calc(var(--spacing)*6))] @w-lg/main:[--thread-content-margin:var(--thread-content-margin-lg\,calc(var(--spacing)*16))] px-(--thread-content-margin)">\n<div class="[--thread-content-max-width:40rem] @w-lg/main:[--thread-content-max-width:48rem] mx-auto max-w-(--thread-content-max-width) flex-1 group/turn-messages focus-visible:outline-hidden relative flex w-full min-w-0 flex-col agent-turn">\n<div class="flex max-w-full flex-col gap-4 grow">\n<div class="min-h-8 text-message relative flex w-full flex-col items-end gap-2 text-start break-words whitespace-normal outline-none keyboard-focused:focus-ring [.text-message+&amp\;]:mt-1" data-message-author-role="assistant" data-message-id="21f182cc-2548-437a-89e0-0c2a403024d1" data-message-model-slug="gpt-5-3" data-turn-start-message="true" dir="auto" tabindex="0">\n<div class="flex w-full flex-col gap-1 empty:hidden">\n<div class="markdown prose dark:prose-invert w-full wrap-break-word light markdown-new-styling">\n<p data-end="272" data-start="0">Join us for an engaging roundtable discussion with Rockbridge Area Recreation Organization (RARO) Director\, Chad Coffey. Get an inside look at the exciting new initiatives RARO is bringing to our community and learn how you can get involved in local sports and recreation.</p>\n\n<p data-end="567" data-is-last-node="" data-is-only-node="" data-start="274">From volunteer opportunities to sponsorships and partnerships\, discover the many ways to support and enhance recreation in the Rockbridge area. Whether you&#39\;re a business leader\, community member\, or sports enthusiast\, this is a great opportunity to connect\, learn\, and be part of what&rsquo\;s ahead.</p>\n</div>\n</div>\n</div>\n</div>\n\n<div class="z-0 flex min-h-[46px] justify-start">&nbsp\;</div>\n\n<div class="mt-3 w-full empty:hidden">\n<div class="text-center">&nbsp\;</div>\n</div>\n</div>\n</div>\n</section>\n</div>\n\n<div aria-hidden="true" class="pointer-events-none h-px w-px absolute bottom-0" data-edge="true">&nbsp\;</div>\n
LOCATION:Brewbaker Field Pavilion - Parking is available at the Pool Parking lot. Rain location - Chamber of Commerce\, 18 E. Nelson Street\, Suite 101\, Lexington\, VA 24450
UID:e.2697.2112
SEQUENCE:3
DTSTAMP:20260423T033609Z
URL:https://business.lexrockchamber.com/events/details/government-affairs-roundtable-raro-2112
END:VEVENT

END:VCALENDAR
