BEGIN:VCALENDAR
VERSION:2.0
PRODID:-//ChamberMaster//Event Calendar 2.0//EN
METHOD:PUBLISH
X-PUBLISHED-TTL:P3D
REFRESH-INTERVAL:P3D
CALSCALE:GREGORIAN
BEGIN:VEVENT
DTSTART:20201028T120000Z
DTEND:20201028T160000Z
X-MICROSOFT-CDO-ALLDAYEVENT:FALSE
SUMMARY:Headshots for Hire
DESCRIPTION:The Chamber of Commerce serving Lexington\, Buena Vista and Rockbridge County\, is excited to announce "Headshots for Hire" which is an initiative of our Women in Leadership committee. The event will take place at the Abigail Inn on October 28 and 29 from from 8am until 12pm each day.\n\n\n\nHaving a professional headshot is an important marketing tool as it showcases you\, your business and your commitment to professionalism. "Headshots for Hire" provides a low-cost opportunity for you to either update your current headshot or to have one taken for the very first time. The event is open to both women and men.\n\n\n\nIn order to provide a safe atmosphere for all of our participants\, we will stagger sessions at half-hour intervals and have two photographers - Chandi Stewart Photography and Richelle Alexander Photography - on site. Once registered\, participants will receive a confirmation email containing a link to select their time slot.\n\n\n\nMembers: $25\n\nNon-Members: $50\n\n\n\nLight refreshments will be provided.\n\n\n\nThis event is generously sponsored by Bank of Botetourt and Bank of the James.
X-ALT-DESC;FMTTYPE=text/html:<span style="font-size:14px\;">The Chamber of Commerce serving Lexington\, Buena Vista and Rockbridge County\, is excited to announce &quot\;Headshots for Hire&quot\; which is an initiative of our Women in Leadership committee. The event will take place at the <a href="https://abigailinn.com/">Abigail Inn</a> on October 28 and 29 from&nbsp\;from 8am until 12pm each day.<br />\n<br />\nHaving a professional headshot is an important marketing tool as it showcases you\, your business and your commitment to professionalism. &quot\;Headshots for Hire&quot\; provides a low-cost opportunity for you to either update your current headshot or to have one taken for the very first time. The event is open to both women and men.<br />\n<br />\nIn order to provide a safe atmosphere for all of our participants\, we will stagger sessions at half-hour intervals and have two photographers -&nbsp\;<a href="https://chandistewartphotography.mypixieset.com/">Chandi Stewart Photography</a> and <a href="https://richellealexanderph6.wixsite.com/raphotography">Richelle Alexander Photography</a> - on site. Once registered\, participants will receive a confirmation email containing a link to select their time slot.<br />\n<br />\nMembers: $25<br />\nNon-Members: $50<br />\n<br />\nLight refreshments will be provided.<br />\n<br />\nThis event is generously sponsored by <a href="https://www.bankofbotetourt.com/">Bank of Botetourt</a> and <a href="https://www.bankofthejames.bank/">Bank of the James</a>.&nbsp\;</span><br />\n<br />\n&nbsp\;
LOCATION:Abigail Inn 408 South Main Street Lexington\, VA 24450
UID:e.2697.1431
SEQUENCE:3
DTSTAMP:20260422T230736Z
URL:https://business.lexrockchamber.com/events/details/headshots-for-hire-1431
END:VEVENT

END:VCALENDAR
