BEGIN:VCALENDAR
VERSION:2.0
PRODID:-//ChamberMaster//Event Calendar 2.0//EN
METHOD:PUBLISH
X-PUBLISHED-TTL:P3D
REFRESH-INTERVAL:P3D
CALSCALE:GREGORIAN
BEGIN:VEVENT
DTSTART:20251203T170000Z
DTEND:20251203T183000Z
X-MICROSOFT-CDO-ALLDAYEVENT:FALSE
SUMMARY:Housing Symposium Work Session #3 - Housing For All
DESCRIPTION:Join us on December 3rd at 12:00 PM for a Housing Symposium work session focused on Housing for All. Enjoy a complimentary lunch with your registration and take part in an engaging roundtable discussion dedicated to supporting housing stability and affordability for lower-income families in our region. We hope to see you there as we collaborate to shape the future of our community.\n\n\n\nLunch will be served right at 12 PM. RVSP is needed for the complimentary lunch. \n\n\n\nHousing for All\n\nThis working group will explore and recommend ways to assist our region's lower income families with housing stability and affordability. Work may include expanding services for people experiencing homelessness\, emergency shelter\, eviction prevention\, workforce housing project development\, affordable housing project development\, aging in place programs\, home renovation assistance\, and other solutions that assist our region's most vulnerable residents with housing.
X-ALT-DESC;FMTTYPE=text/html:<span style="font-size:12px\;"><span style="font-family:verdana\;"><strong data-end="153" data-start="39" style="caret-color: rgb(0\, 0\, 0)\; color: rgb(0\, 0\, 0)\;">Join us on December 3rd at 12:00 PM for a Housing Symposium work session focused on Housing for All.</strong></span><span style="caret-color: rgb(0\, 0\, 0)\; color: rgb(0\, 0\, 0)\;"><span style="font-family:verdana\;">&nbsp\;Enjoy a complimentary lunch with your registration and take part in an engaging roundtable discussion dedicated to&nbsp\;supporting housing stability and affordability for lower-income families in our region.</span>&nbsp\;</span><span style="font-family:verdana\;"><span style="caret-color: rgb(0\, 0\, 0)\; color: rgb(0\, 0\, 0)\;">We hope to see you there as we collaborate to shape the future of our community.<br />\n<br />\nLunch will be served right at 12 PM. RVSP is needed for the </span></span><span style="caret-color: rgb(0\, 0\, 0)\; color: rgb(0\, 0\, 0)\; font-family: verdana\;">complimentary</span><span style="font-family:verdana\;"><span style="caret-color: rgb(0\, 0\, 0)\; color: rgb(0\, 0\, 0)\;"> lunch.&nbsp\;</span></span><br />\n<br />\n<span style="font-family:verdana\;"><strong>Housing for All</strong><br />\nThis working group will explore and recommend ways to assist our region&rsquo\;s lower income families with housing stability and affordability. Work may include expanding services for people experiencing homelessness\, emergency shelter\, eviction prevention\, workforce housing project development\, affordable housing project development\, aging in place programs\, home renovation assistance\, and other solutions that assist our region&rsquo\;s most vulnerable residents with housing.</span></span>
LOCATION:Rockbridge County High School Community Room
UID:e.2697.2138
SEQUENCE:3
DTSTAMP:20260423T085950Z
URL:https://business.lexrockchamber.com/events/details/housing-symposium-work-session-3-housing-for-all-2138
END:VEVENT

END:VCALENDAR
