BEGIN:VCALENDAR
VERSION:2.0
PRODID:-//ChamberMaster//Event Calendar 2.0//EN
METHOD:PUBLISH
X-PUBLISHED-TTL:P3D
REFRESH-INTERVAL:P3D
CALSCALE:GREGORIAN
BEGIN:VEVENT
DTSTART:20190528T160000Z
DTEND:20190528T170000Z
X-MICROSOFT-CDO-ALLDAYEVENT:FALSE
SUMMARY:Non-Profit Executive Director Council
DESCRIPTION:
X-ALT-DESC;FMTTYPE=text/html:
LOCATION:Project Horizon 120 Varner Lane Lexington\, VA 24450
UID:e.2697.1324
SEQUENCE:3
DTSTAMP:20260422T160000Z
URL:https://business.lexrockchamber.com/events/details/non-profit-executive-director-council-1324
END:VEVENT

END:VCALENDAR
