BEGIN:VCALENDAR
VERSION:2.0
PRODID:-//ChamberMaster//Event Calendar 2.0//EN
METHOD:PUBLISH
X-PUBLISHED-TTL:P3D
REFRESH-INTERVAL:P3D
CALSCALE:GREGORIAN
BEGIN:VEVENT
DTSTART:20201112T180000Z
DTEND:20201112T190000Z
X-MICROSOFT-CDO-ALLDAYEVENT:FALSE
SUMMARY:REDI Community Meeting - Manufacturing
DESCRIPTION:The public is invited to join us at one of our upcoming Community Meetings to provide input on how to drive success and create opportunities for community economic development.\n\n \n\nEach session will take place at 1:00 p.m. via Zoom and last approximately 45 minutes. Leslie Schaller\, ACEnet Director of Programs\, representing REDI and USDA Rural Development\, will facilitate the discussion.\n\n \n\nOctober 29\n\nDowntown Revitalization\n\n \n\nNovember 5\n\nTechnology / IT\n\n \n\nNovember 12\n\nManufacturing\n\n \n\nNovember 19\n\nTourism\n\n \n\nTBD\n\nHigher Education
X-ALT-DESC;FMTTYPE=text/html:<p class="_5RYuEA direction-ltr align-center para-style-body" style="line-height: 1.4\; font-family: &quot\;YACgEe79vK0 0&quot\;\, _fb_\, auto\; font-size: 18.3748px\; color: rgb(255\, 255\, 255)\;"><span style="font-size:14px\;"><span style="font-family:arial\;"><span style="color:#000000\;">The public is invited to join us at one of our upcoming Community Meetings to provide input on how to drive success and create opportunities for community economic development.<br />\n&nbsp\;<br />\nEach session will take place at 1:00 p.m. via Zoom and last approximately 45 minutes. Leslie Schaller\, ACEnet Director of Programs\, representing REDI and USDA Rural Development\, will facilitate the discussion.<br />\n&nbsp\;<br />\nOctober 29<br />\nDowntown Revitalization<br />\n&nbsp\;<br />\nNovember 5<br />\nTechnology / IT<br />\n&nbsp\;<br />\nNovember 12<br />\nManufacturing<br />\n&nbsp\;<br />\nNovember 19<br />\nTourism<br />\n&nbsp\;<br />\nTBD<br />\nHigher Education</span></span></span></p>\n
LOCATION:Virtual via Zoom
UID:e.2697.1437
SEQUENCE:3
DTSTAMP:20260423T232146Z
URL:https://business.lexrockchamber.com/events/details/redi-community-meeting-manufacturing-1437
END:VEVENT

END:VCALENDAR
