BEGIN:VCALENDAR
VERSION:2.0
PRODID:-//ChamberMaster//Event Calendar 2.0//EN
METHOD:PUBLISH
X-PUBLISHED-TTL:P3D
REFRESH-INTERVAL:P3D
CALSCALE:GREGORIAN
BEGIN:VEVENT
DTSTART:20170915T143000Z
DTEND:20170915T153000Z
X-MICROSOFT-CDO-ALLDAYEVENT:FALSE
SUMMARY:Ribbon Cutting at Urban Farm Girl
DESCRIPTION:Urban Farm Girl is opening a location in Downtown Lexington! We'll be celebrating with a Ribbon Cutting ceremony on Friday\, September 15 at 10:30am The new store is located at 19 West Nelson Street\, and hours will be:  M\, T\, Th\, F\, S from 10:30am until 5:30pm. The Buena Vista location wil be open on Wednesdays from 10:30am until 5:30pm.
X-ALT-DESC;FMTTYPE=text/html:<span style="color: rgb(0\, 0\, 0)\; font-family: Arial\, Helvetica\, sans-serif\; font-size: 13.3333px\;">Urban Farm Girl is opening a location in Downtown Lexington! We&#39\;ll be celebrating with a Ribbon Cutting ceremony on&nbsp\;</span><strong style="color: rgb(0\, 0\, 0)\; font-family: Arial\, Helvetica\, sans-serif\; font-size: 13.3333px\;">Friday\, September 15 at 10:30am</strong><span style="color: rgb(0\, 0\, 0)\; font-family: Arial\, Helvetica\, sans-serif\; font-size: 13.3333px\;">&nbsp\;The new store is located at 19 West Nelson Street\, and&nbsp\;</span><span style="color: rgb(0\, 0\, 0)\; font-family: Arial\, Helvetica\, sans-serif\; font-size: 13.3333px\;">hours will be:&nbsp\; M\, T\, Th\, F\, S from&nbsp\;</span><span style="color: rgb(0\, 0\, 0)\; font-family: Arial\, Helvetica\, sans-serif\; font-size: 13.3333px\;">10:30am until 5:30pm.</span><span style="color: rgb(0\, 0\, 0)\; font-family: Arial\, Helvetica\, sans-serif\; font-size: 13.3333px\;">&nbsp\;The Buena Vista location wil be open on&nbsp\;</span><span style="color: rgb(0\, 0\, 0)\; font-family: Arial\, Helvetica\, sans-serif\; font-size: 13.3333px\;">Wednesdays</span><span style="color: rgb(0\, 0\, 0)\; font-family: Arial\, Helvetica\, sans-serif\; font-size: 13.3333px\;">&nbsp\;from 10</span><span style="color: rgb(0\, 0\, 0)\; font-family: Arial\, Helvetica\, sans-serif\; font-size: 13.3333px\;">:30am until 5:30pm.</span>
LOCATION:
UID:e.2697.204
SEQUENCE:3
DTSTAMP:20260421T141713Z
URL:https://business.lexrockchamber.com/events/details/ribbon-cutting-at-urban-farm-girl-204
END:VEVENT

END:VCALENDAR
