BEGIN:VCALENDAR
VERSION:2.0
PRODID:-//ChamberMaster//Event Calendar 2.0//EN
METHOD:PUBLISH
X-PUBLISHED-TTL:P3D
REFRESH-INTERVAL:P3D
CALSCALE:GREGORIAN
BEGIN:VEVENT
DTSTART:20190517T220000Z
DTEND:20190517T223000Z
X-MICROSOFT-CDO-ALLDAYEVENT:FALSE
SUMMARY:Ribbon Cutting at Waddell Elementary
DESCRIPTION:Waddell Elementary PTA invites students\, staff and families to their end of school year celebration - the "Bulldog Bash" - on Friday\, May 17th at 5:30 p.m. \n\n\n\nWe'll be there to celebrate the newly constructed timber frame pavilion with a with a Ribbon Cutting ceremony at 6:00 p.m.
X-ALT-DESC;FMTTYPE=text/html:<span style="font-size:14px\;"><span style="color: rgb(0\, 0\, 0)\; font-family: Arial\, Helvetica\, sans-serif\;">Waddell Elementary PTA invites students\, staff and families to their end of school year celebration - the &quot\;Bulldog Bash&quot\; - on Friday\, May 17th at 5:30 p.m.&nbsp\;</span><br />\n<br />\n<span style="color: rgb(0\, 0\, 0)\; font-family: Arial\, Helvetica\, sans-serif\;">We&#39\;ll be there to celebrate the newly constructed timber frame pavilion with a&nbsp\;</span><span style="color: rgb(0\, 0\, 0)\; font-family: Arial\, Helvetica\, sans-serif\;">with a Ribbon Cutting ceremony&nbsp\;</span><span style="color: rgb(0\, 0\, 0)\; font-family: Arial\, Helvetica\, sans-serif\;">at 6:00 p.m.&nbsp\;</span></span>
LOCATION:100 Pendleton Place Lexington\, VA 24450
UID:e.2697.1336
SEQUENCE:3
DTSTAMP:20260422T155818Z
URL:https://business.lexrockchamber.com/events/details/ribbon-cutting-at-waddell-elementary-1336
END:VEVENT

END:VCALENDAR
