BEGIN:VCALENDAR
VERSION:2.0
PRODID:-//ChamberMaster//Event Calendar 2.0//EN
METHOD:PUBLISH
X-PUBLISHED-TTL:P3D
REFRESH-INTERVAL:P3D
CALSCALE:GREGORIAN
BEGIN:VEVENT
DTSTART:20260514T160000Z
DTEND:20260514T170000Z
X-MICROSOFT-CDO-ALLDAYEVENT:FALSE
SUMMARY:Ribbon Cutting - Grandmother's Thimble Quilt Shop\, LLC
DESCRIPTION:Join us and welcome Grandmother's Thimble Quilt Shop to downtown Lexington!
X-ALT-DESC;FMTTYPE=text/html:Join us and welcome Grandmother&#39\;s Thimble Quilt Shop to downtown Lexington!
LOCATION:23 W Washington Street Lexington\, VA
UID:e.2697.2163
SEQUENCE:3
DTSTAMP:20260421T182656Z
URL:https://business.lexrockchamber.com/events/details/ribbon-cutting-grandmother-s-thimble-quilt-shop-llc-2163
END:VEVENT

END:VCALENDAR
