BEGIN:VCALENDAR
VERSION:2.0
PRODID:-//ChamberMaster//Event Calendar 2.0//EN
METHOD:PUBLISH
X-PUBLISHED-TTL:P3D
REFRESH-INTERVAL:P3D
CALSCALE:GREGORIAN
BEGIN:VEVENT
DTSTART:20260513T213000Z
DTEND:20260513T230000Z
X-MICROSOFT-CDO-ALLDAYEVENT:FALSE
SUMMARY:Ribbon Cutting - Lexington VIA Day School
DESCRIPTION:Join us as we warmly welcome Lexington VIA Day School to the Lexington and Rockbridge community!\n\nWe're excited to celebrate a school that is dedicated to creating meaningful learning experiences and supporting the growth and development of students in our region. Educational opportunities like this play an important role in building a strong\, vibrant community\, and Lexington VIA Day School brings a thoughtful and engaging approach that will make a lasting impact.\n\nPlease join us for the ribbon cutting on May 13\, 2026\, from 5:30 PM to 7:00 PM. Come out to meet the team\, learn more about their programs\, and help us give them a warm Rockbridge welcome. We're grateful to see continued investment in education that supports the future of our community.
X-ALT-DESC;FMTTYPE=text/html:<p data-end="109" data-start="0" style="caret-color: rgb(255\, 255\, 255)\; color: rgb(255\, 255\, 255)\;"><span style="color:#000000\;">Join us as we warmly welcome&nbsp\;<span class="hover:entity-accent entity-underline inline cursor-pointer align-baseline">Lexington VIA Day School</span>&nbsp\;to the Lexington and Rockbridge community!</span></p>\n\n<p data-end="481" data-start="111" style="caret-color: rgb(255\, 255\, 255)\; color: rgb(255\, 255\, 255)\;"><span style="color:#000000\;">We&rsquo\;re excited to celebrate a school that is dedicated to creating meaningful learning experiences and supporting the growth and development of students in our region. Educational opportunities like this play an important role in building a strong\, vibrant community\, and Lexington VIA Day School brings a thoughtful and engaging approach that will make a lasting impact.</span></p>\n\n<p data-end="770" data-is-last-node="" data-is-only-node="" data-start="483" style="caret-color: rgb(255\, 255\, 255)\; color: rgb(255\, 255\, 255)\;"><span style="color:#000000\;">Please join us for the ribbon cutting on <strong>May 13\, 2026\, from 5:30 PM to 7:00 PM</strong>. Come out to meet the team\, learn more about their programs\, and help us give them a warm Rockbridge welcome. We&rsquo\;re grateful to see continued investment in education that supports the future of our community.</span></p>\n
LOCATION:40 Park Place Lexington\, VA 24450
UID:e.2697.2165
SEQUENCE:3
DTSTAMP:20260421T074851Z
URL:https://business.lexrockchamber.com/events/details/ribbon-cutting-lexington-via-day-school-2165
END:VEVENT

END:VCALENDAR
