BEGIN:VCALENDAR
VERSION:2.0
PRODID:-//ChamberMaster//Event Calendar 2.0//EN
METHOD:PUBLISH
X-PUBLISHED-TTL:P3D
REFRESH-INTERVAL:P3D
CALSCALE:GREGORIAN
BEGIN:VEVENT
DTSTART:20190402T190000Z
DTEND:20190402T220000Z
X-MICROSOFT-CDO-ALLDAYEVENT:FALSE
SUMMARY:Ribbon Cutting & Open House at Project Horizon in Buena Vista
DESCRIPTION:Join us to celebrate the Grand Opening of Project Horizon's new satellite office in Buena Vista (1809 Magnolia Avenue)! We'll mark the occasion with a Ribbon Cutting at 3:00 p.m. to kick off their Open House festivities. Join us for a tour of the space and light refreshments.
X-ALT-DESC;FMTTYPE=text/html:<span style="font-size:14px\;"><span data-offset-key="7r7b8-0-0" style="font-family: Helvetica\, Arial\, sans-serif\; color: rgb(29\, 33\, 41)\; white-space: pre-wrap\;"><span data-text="true" style="font-family: inherit\;">Join us to celebrate the Grand Opening of </span></span><span blockkey="7r7b8" class="_247o" contentstate="c { &quot\;entityMap&quot\;: [object Object]\, &quot\;blockMap&quot\;: OrderedMap { &quot\;7r7b8&quot\;: c { &quot\;key&quot\;: &quot\;7r7b8&quot\;\, &quot\;type&quot\;: &quot\;unstyled&quot\;\, &quot\;text&quot\;: &quot\;Join us to celebrate the Grand Opening of Project Horizon's new satellite office in Buena Vista (1809 Magnolia Avenue)! We'll mark the occasion with a Ribbon Cutting at 3:00 p.m. to kick off their Open House festivities. Join us for a tour of the space and light refreshments. &quot\;\, &quot\;characterList&quot\;: List [ b { &quot\;style&quot\;: OrderedSet {}\, &quot\;entity&quot\;: null }\, b { &quot\;style&quot\;: OrderedSet {}\, &quot\;entity&quot\;: null }\, b { &quot\;style&quot\;: OrderedSet {}\, &quot\;entity&quot\;: null }\, b { &quot\;style&quot\;: OrderedSet {}\, &quot\;entity&quot\;: null }\, b { &quot\;style&quot\;: OrderedSet {}\, &quot\;entity&quot\;: null }\, b { &quot\;style&quot\;: OrderedSet {}\, &quot\;entity&quot\;: null }\, b { &quot\;style&quot\;: OrderedSet {}\, &quot\;entity&quot\;: null }\, b { &quot\;style&quot\;: OrderedSet {}\, &quot\;entity&quot\;: null }\, b { &quot\;style&quot\;: OrderedSet {}\, &quot\;entity&quot\;: null }\, b { &quot\;style&quot\;: OrderedSet {}\, &quot\;entity&quot\;: null }\, b { &quot\;style&quot\;: OrderedSet {}\, &quot\;entity&quot\;: null }\, b { &quot\;style&quot\;: OrderedSet {}\, &quot\;entity&quot\;: null }\, b { &quot\;style&quot\;: OrderedSet {}\, &quot\;entity&quot\;: null }\, b { &quot\;style&quot\;: OrderedSet {}\, &quot\;entity&quot\;: null }\, b { &quot\;style&quot\;: OrderedSet {}\, &quot\;entity&quot\;: null }\, b { &quot\;style&quot\;: OrderedSet {}\, &quot\;entity&quot\;: null }\, b { &quot\;style&quot\;: OrderedSet {}\, &quot\;entity&quot\;: null }\, b { &quot\;style&quot\;: OrderedSet {}\, &quot\;entity&quot\;: null }\, b { &quot\;style&quot\;: OrderedSet {}\, &quot\;entity&quot\;: null }\, b { &quot\;style&quot\;: OrderedSet {}\, &quot\;entity&quot\;: null }\, b { &quot\;style&quot\;: OrderedSet {}\, &quot\;entity&quot\;: null }\, b { &quot\;style&quot\;: OrderedSet {}\, &quot\;entity&quot\;: null }\, b { &quot\;style&quot\;: OrderedSet {}\, &quot\;entity&quot\;: null }\, b { &quot\;style&quot\;: OrderedSet {}\, &quot\;entity&quot\;: null }\, b { &quot\;style&quot\;: OrderedSet {}\, &quot\;entity&quot\;: null }\, b { &quot\;style&quot\;: OrderedSet {}\, &quot\;entity&quot\;: null }\, b { &quot\;style&quot\;: OrderedSet {}\, &quot\;entity&quot\;: null }\, b { &quot\;style&quot\;: OrderedSet {}\, &quot\;entity&quot\;: null }\, b { &quot\;style&quot\;: OrderedSet {}\, &quot\;entity&quot\;: null }\, b { &quot\;style&quot\;: OrderedSet {}\, &quot\;entity&quot\;: null }\, b { &quot\;style&quot\;: OrderedSet {}\, &quot\;entity&quot\;: null }\, b { &quot\;style&quot\;: OrderedSet {}\, &quot\;entity&quot\;: null }\, b { &quot\;style&quot\;: OrderedSet {}\, &quot\;entity&quot\;: null }\, b { &quot\;style&quot\;: OrderedSet {}\, &quot\;entity&quot\;: null }\, b { &quot\;style&quot\;: OrderedSet {}\, &quot\;entity&quot\;: null }\, b { &quot\;style&quot\;: OrderedSet {}\, &quot\;entity&quot\;: null }\, b { &quot\;style&quot\;: OrderedSet {}\, &quot\;entity&quot\;: null }\, b { &quot\;style&quot\;: OrderedSet {}\, &quot\;entity&quot\;: null }\, b { &quot\;style&quot\;: OrderedSet {}\, &quot\;entity&quot\;: null }\, b { &quot\;style&quot\;: OrderedSet {}\, &quot\;entity&quot\;: null }\, b { &quot\;style&quot\;: OrderedSet {}\, &quot\;entity&quot\;: null }\, b { &quot\;style&quot\;: OrderedSet {}\, &quot\;entity&quot\;: null }\, b { &quot\;style&quot\;: OrderedSet {}\, &quot\;entity&quot\;: &quot\;2&quot\; }\, b { &quot\;style&quot\;: OrderedSet {}\, &quot\;entity&quot\;: &quot\;2&quot\; }\, b { &quot\;style&quot\;: OrderedSet {}\, &quot\;entity&quot\;: &quot\;2&quot\; }\, b { &quot\;style&quot\;: OrderedSet {}\, &quot\;entity&quot\;: &quot\;2&quot\; }\, b { &quot\;style&quot\;: OrderedSet {}\, &quot\;entity&quot\;: &quot\;2&quot\; }\, b { &quot\;style&quot\;: OrderedSet {}\, &quot\;entity&quot\;: &quot\;2&quot\; }\, b { &quot\;style&quot\;: OrderedSet {}\, &quot\;entity&quot\;: &quot\;2&quot\; }\, b { &quot\;style&quot\;: OrderedSet {}\, &quot\;entity&quot\;: &quot\;2&quot\; }\, b { &quot\;style&quot\;: OrderedSet {}\, &quot\;entity&quot\;: &quot\;2&quot\; }\, b { &quot\;style&quot\;: OrderedSet {}\, &quot\;entity&quot\;: &quot\;2&quot\; }\, b { &quot\;style&quot\;: OrderedSet {}\, &quot\;entity&quot\;: &quot\;2&quot\; }\, b { &quot\;style&quot\;: OrderedSet {}\, &quot\;entity&quot\;: &quot\;2&quot\; }\, b { &quot\;style&quot\;: OrderedSet {}\, &quot\;entity&quot\;: &quot\;2&quot\; }\, b { &quot\;style&quot\;: OrderedSet {}\, &quot\;entity&quot\;: &quot\;2&quot\; }\, b { &quot\;style&quot\;: OrderedSet {}\, &quot\;entity&quot\;: &quot\;2&quot\; }\, b { &quot\;style&quot\;: OrderedSet {}\, &quot\;entity&quot\;: null }\, b { &quot\;style&quot\;: OrderedSet {}\, &quot\;entity&quot\;: null }\, b { &quot\;style&quot\;: OrderedSet {}\, &quot\;entity&quot\;: null }\, b { &quot\;style&quot\;: OrderedSet {}\, &quot\;entity&quot\;: null }\, b { &quot\;style&quot\;: OrderedSet {}\, &quot\;entity&quot\;: null }\, b { &quot\;style&quot\;: OrderedSet {}\, &quot\;entity&quot\;: null }\, b { &quot\;style&quot\;: OrderedSet {}\, &quot\;entity&quot\;: null }\, b { &quot\;style&quot\;: OrderedSet {}\, &quot\;entity&quot\;: null }\, b { &quot\;style&quot\;: OrderedSet {}\, &quot\;entity&quot\;: null }\, b { &quot\;style&quot\;: OrderedSet {}\, &quot\;entity&quot\;: null }\, b { &quot\;style&quot\;: OrderedSet {}\, &quot\;entity&quot\;: null }\, b { &quot\;style&quot\;: OrderedSet {}\, &quot\;entity&quot\;: null }\, b { &quot\;style&quot\;: OrderedSet {}\, &quot\;entity&quot\;: null }\, b { &quot\;style&quot\;: OrderedSet {}\, &quot\;entity&quot\;: null }\, b { &quot\;style&quot\;: OrderedSet {}\, &quot\;entity&quot\;: null }\, b { &quot\;style&quot\;: OrderedSet {}\, &quot\;entity&quot\;: null }\, b { &quot\;style&quot\;: OrderedSet {}\, &quot\;entity&quot\;: null }\, b { &quot\;style&quot\;: OrderedSet {}\, &quot\;entity&quot\;: null }\, b { &quot\;style&quot\;: OrderedSet {}\, &quot\;entity&quot\;: null }\, b { &quot\;style&quot\;: OrderedSet {}\, &quot\;entity&quot\;: null }\, b { &quot\;style&quot\;: OrderedSet {}\, &quot\;entity&quot\;: null }\, b { &quot\;style&quot\;: OrderedSet {}\, &quot\;entity&quot\;: null }\, b { &quot\;style&quot\;: OrderedSet {}\, &quot\;entity&quot\;: null }\, b { &quot\;style&quot\;: OrderedSet {}\, &quot\;entity&quot\;: null }\, b { &quot\;style&quot\;: OrderedSet {}\, &quot\;entity&quot\;: null }\, b { &quot\;style&quot\;: OrderedSet {}\, &quot\;entity&quot\;: null }\, b { &quot\;style&quot\;: OrderedSet {}\, &quot\;entity&quot\;: null }\, b { &quot\;style&quot\;: OrderedSet {}\, &quot\;entity&quot\;: null }\, b { &quot\;style&quot\;: OrderedSet {}\, &quot\;entity&quot\;: null }\, b { &quot\;style&quot\;: OrderedSet {}\, &quot\;entity&quot\;: null }\, b { &quot\;style&quot\;: OrderedSet {}\, &quot\;entity&quot\;: null }\, b { &quot\;style&quot\;: OrderedSet {}\, &quot\;entity&quot\;: null }\, b { &quot\;style&quot\;: OrderedSet {}\, &quot\;entity&quot\;: null }\, b { &quot\;style&quot\;: OrderedSet {}\, &quot\;entity&quot\;: null }\, b { &quot\;style&quot\;: OrderedSet {}\, &quot\;entity&quot\;: null }\, b { &quot\;style&quot\;: OrderedSet {}\, &quot\;entity&quot\;: null }\, b { &quot\;style&quot\;: OrderedSet {}\, &quot\;entity&quot\;: null }\, b { &quot\;style&quot\;: OrderedSet {}\, &quot\;entity&quot\;: null }\, b { &quot\;style&quot\;: OrderedSet {}\, &quot\;entity&quot\;: null }\, b { &quot\;style&quot\;: OrderedSet {}\, &quot\;entity&quot\;: null }\, b { &quot\;style&quot\;: OrderedSet {}\, &quot\;entity&quot\;: null }\, b { &quot\;style&quot\;: OrderedSet {}\, &quot\;entity&quot\;: null }\, b { &quot\;style&quot\;: OrderedSet {}\, &quot\;entity&quot\;: null }\, b { &quot\;style&quot\;: OrderedSet {}\, &quot\;entity&quot\;: null }\, b { &quot\;style&quot\;: OrderedSet {}\, &quot\;entity&quot\;: null }\, b { &quot\;style&quot\;: OrderedSet {}\, &quot\;entity&quot\;: null }\, b { &quot\;style&quot\;: OrderedSet {}\, &quot\;entity&quot\;: null }\, b { &quot\;style&quot\;: OrderedSet {}\, &quot\;entity&quot\;: null }\, b { &quot\;style&quot\;: OrderedSet {}\, &quot\;entity&quot\;: null }\, b { &quot\;style&quot\;: OrderedSet {}\, &quot\;entity&quot\;: null }\, b { &quot\;style&quot\;: OrderedSet {}\, &quot\;entity&quot\;: null }\, b { &quot\;style&quot\;: OrderedSet {}\, &quot\;entity&quot\;: null }\, b { &quot\;style&quot\;: OrderedSet {}\, &quot\;entity&quot\;: null }\, b { &quot\;style&quot\;: OrderedSet {}\, &quot\;entity&quot\;: null }\, b { &quot\;style&quot\;: OrderedSet {}\, &quot\;entity&quot\;: null }\, b { &quot\;style&quot\;: OrderedSet {}\, &quot\;entity&quot\;: null }\, b { &quot\;style&quot\;: OrderedSet {}\, &quot\;entity&quot\;: null }\, b { &quot\;style&quot\;: OrderedSet {}\, &quot\;entity&quot\;: null }\, b { &quot\;style&quot\;: OrderedSet {}\, &quot\;entity&quot\;: null }\, b { &quot\;style&quot\;: OrderedSet {}\, &quot\;entity&quot\;: null }\, b { &quot\;style&quot\;: OrderedSet {}\, &quot\;entity&quot\;: null }\, b { &quot\;style&quot\;: OrderedSet {}\, &quot\;entity&quot\;: null }\, b { &quot\;style&quot\;: OrderedSet {}\, &quot\;entity&quot\;: null }\, b { &quot\;style&quot\;: OrderedSet {}\, &quot\;entity&quot\;: null }\, b { &quot\;style&quot\;: OrderedSet {}\, &quot\;entity&quot\;: null }\, b { &quot\;style&quot\;: OrderedSet {}\, &quot\;entity&quot\;: null }\, b { &quot\;style&quot\;: OrderedSet {}\, &quot\;entity&quot\;: null }\, b { &quot\;style&quot\;: OrderedSet {}\, &quot\;entity&quot\;: null }\, b { &quot\;style&quot\;: OrderedSet {}\, &quot\;entity&quot\;: null }\, b { &quot\;style&quot\;: OrderedSet {}\, &quot\;entity&quot\;: null }\, b { &quot\;style&quot\;: OrderedSet {}\, &quot\;entity&quot\;: null }\, b { &quot\;style&quot\;: OrderedSet {}\, &quot\;entity&quot\;: null }\, b { &quot\;style&quot\;: OrderedSet {}\, &quot\;entity&quot\;: null }\, b { &quot\;style&quot\;: OrderedSet {}\, &quot\;entity&quot\;: null }\, b { &quot\;style&quot\;: OrderedSet {}\, &quot\;entity&quot\;: null }\, b { &quot\;style&quot\;: OrderedSet {}\, &quot\;entity&quot\;: null }\, b { &quot\;style&quot\;: OrderedSet {}\, &quot\;entity&quot\;: null }\, b { &quot\;style&quot\;: OrderedSet {}\, &quot\;entity&quot\;: null }\, b { &quot\;style&quot\;: OrderedSet {}\, &quot\;entity&quot\;: null }\, b { &quot\;style&quot\;: OrderedSet {}\, &quot\;entity&quot\;: null }\, b { &quot\;style&quot\;: OrderedSet {}\, &quot\;entity&quot\;: null }\, b { &quot\;style&quot\;: OrderedSet {}\, &quot\;entity&quot\;: null }\, b { &quot\;style&quot\;: OrderedSet {}\, &quot\;entity&quot\;: null }\, b { &quot\;style&quot\;: OrderedSet {}\, &quot\;entity&quot\;: null }\, b { &quot\;style&quot\;: OrderedSet {}\, &quot\;entity&quot\;: null }\, b { &quot\;style&quot\;: OrderedSet {}\, &quot\;entity&quot\;: null }\, b { &quot\;style&quot\;: OrderedSet {}\, &quot\;entity&quot\;: null }\, b { &quot\;style&quot\;: OrderedSet {}\, &quot\;entity&quot\;: null }\, b { &quot\;style&quot\;: OrderedSet {}\, &quot\;entity&quot\;: null }\, b { &quot\;style&quot\;: OrderedSet {}\, &quot\;entity&quot\;: null }\, b { &quot\;style&quot\;: OrderedSet {}\, &quot\;entity&quot\;: null }\, b { &quot\;style&quot\;: OrderedSet {}\, &quot\;entity&quot\;: null }\, b { &quot\;style&quot\;: OrderedSet {}\, &quot\;entity&quot\;: null }\, b { &quot\;style&quot\;: OrderedSet {}\, &quot\;entity&quot\;: null }\, b { &quot\;style&quot\;: OrderedSet {}\, &quot\;entity&quot\;: null }\, b { &quot\;style&quot\;: OrderedSet {}\, &quot\;entity&quot\;: null }\, b { &quot\;style&quot\;: OrderedSet {}\, &quot\;entity&quot\;: null }\, b { &quot\;style&quot\;: OrderedSet {}\, &quot\;entity&quot\;: null }\, b { &quot\;style&quot\;: OrderedSet {}\, &quot\;entity&quot\;: null }\, b { &quot\;style&quot\;: OrderedSet {}\, &quot\;entity&quot\;: null }\, b { &quot\;style&quot\;: OrderedSet {}\, &quot\;entity&quot\;: null }\, b { &quot\;style&quot\;: OrderedSet {}\, &quot\;entity&quot\;: null }\, b { &quot\;style&quot\;: OrderedSet {}\, &quot\;entity&quot\;: null }\, b { &quot\;style&quot\;: OrderedSet {}\, &quot\;entity&quot\;: null }\, b { &quot\;style&quot\;: OrderedSet {}\, &quot\;entity&quot\;: null }\, b { &quot\;style&quot\;: OrderedSet {}\, &quot\;entity&quot\;: null }\, b { &quot\;style&quot\;: OrderedSet {}\, &quot\;entity&quot\;: null }\, b { &quot\;style&quot\;: OrderedSet {}\, &quot\;entity&quot\;: null }\, b { &quot\;style&quot\;: OrderedSet {}\, &quot\;entity&quot\;: null }\, b { &quot\;style&quot\;: OrderedSet {}\, &quot\;entity&quot\;: null }\, b { &quot\;style&quot\;: OrderedSet {}\, &quot\;entity&quot\;: null }\, b { &quot\;style&quot\;: OrderedSet {}\, &quot\;entity&quot\;: null }\, b { &quot\;style&quot\;: OrderedSet {}\, &quot\;entity&quot\;: null }\, b { &quot\;style&quot\;: OrderedSet {}\, &quot\;entity&quot\;: null }\, b { &quot\;style&quot\;: OrderedSet {}\, &quot\;entity&quot\;: null }\, b { &quot\;style&quot\;: OrderedSet {}\, &quot\;entity&quot\;: null }\, b { &quot\;style&quot\;: OrderedSet {}\, &quot\;entity&quot\;: null }\, b { &quot\;style&quot\;: OrderedSet {}\, &quot\;entity&quot\;: null }\, b { &quot\;style&quot\;: OrderedSet {}\, &quot\;entity&quot\;: null }\, b { &quot\;style&quot\;: OrderedSet {}\, &quot\;entity&quot\;: null }\, b { &quot\;style&quot\;: OrderedSet {}\, &quot\;entity&quot\;: null }\, b { &quot\;style&quot\;: OrderedSet {}\, &quot\;entity&quot\;: null }\, b { &quot\;style&quot\;: OrderedSet {}\, &quot\;entity&quot\;: null }\, b { &quot\;style&quot\;: OrderedSet {}\, &quot\;entity&quot\;: null }\, b { &quot\;style&quot\;: OrderedSet {}\, &quot\;entity&quot\;: null }\, b { &quot\;style&quot\;: OrderedSet {}\, &quot\;entity&quot\;: null }\, b { &quot\;style&quot\;: OrderedSet {}\, &quot\;entity&quot\;: null }\, b { &quot\;style&quot\;: OrderedSet {}\, &quot\;entity&quot\;: null }\, b { &quot\;style&quot\;: OrderedSet {}\, &quot\;entity&quot\;: null }\, b { &quot\;style&quot\;: OrderedSet {}\, &quot\;entity&quot\;: null }\, b { &quot\;style&quot\;: OrderedSet {}\, &quot\;entity&quot\;: null }\, b { &quot\;style&quot\;: OrderedSet {}\, &quot\;entity&quot\;: null }\, b { &quot\;style&quot\;: OrderedSet {}\, &quot\;entity&quot\;: null }\, b { &quot\;style&quot\;: OrderedSet {}\, &quot\;entity&quot\;: null }\, b { &quot\;style&quot\;: OrderedSet {}\, &quot\;entity&quot\;: null }\, b { &quot\;style&quot\;: OrderedSet {}\, &quot\;entity&quot\;: null }\, b { &quot\;style&quot\;: OrderedSet {}\, &quot\;entity&quot\;: null }\, b { &quot\;style&quot\;: OrderedSet {}\, &quot\;entity&quot\;: null }\, b { &quot\;style&quot\;: OrderedSet {}\, &quot\;entity&quot\;: null }\, b { &quot\;style&quot\;: OrderedSet {}\, &quot\;entity&quot\;: null }\, b { &quot\;style&quot\;: OrderedSet {}\, &quot\;entity&quot\;: null }\, b { &quot\;style&quot\;: OrderedSet {}\, &quot\;entity&quot\;: null }\, b { &quot\;style&quot\;: OrderedSet {}\, &quot\;entity&quot\;: null }\, b { &quot\;style&quot\;: OrderedSet {}\, &quot\;entity&quot\;: null }\, b { &quot\;style&quot\;: OrderedSet {}\, &quot\;entity&quot\;: null }\, b { &quot\;style&quot\;: OrderedSet {}\, &quot\;entity&quot\;: null }\, b { &quot\;style&quot\;: OrderedSet {}\, &quot\;entity&quot\;: null }\, b { &quot\;style&quot\;: OrderedSet {}\, &quot\;entity&quot\;: null }\, b { &quot\;style&quot\;: OrderedSet {}\, &quot\;entity&quot\;: null }\, b { &quot\;style&quot\;: OrderedSet {}\, &quot\;entity&quot\;: null }\, b { &quot\;style&quot\;: OrderedSet {}\, &quot\;entity&quot\;: null }\, b { &quot\;style&quot\;: OrderedSet {}\, &quot\;entity&quot\;: null }\, b { &quot\;style&quot\;: OrderedSet {}\, &quot\;entity&quot\;: null }\, b { &quot\;style&quot\;: OrderedSet {}\, &quot\;entity&quot\;: null }\, b { &quot\;style&quot\;: OrderedSet {}\, &quot\;entity&quot\;: null }\, b { &quot\;style&quot\;: OrderedSet {}\, &quot\;entity&quot\;: null }\, b { &quot\;style&quot\;: OrderedSet {}\, &quot\;entity&quot\;: null }\, b { &quot\;style&quot\;: OrderedSet {}\, &quot\;entity&quot\;: null }\, b { &quot\;style&quot\;: OrderedSet {}\, &quot\;entity&quot\;: null }\, b { &quot\;style&quot\;: OrderedSet {}\, &quot\;entity&quot\;: null }\, b { &quot\;style&quot\;: OrderedSet {}\, &quot\;entity&quot\;: null }\, b { &quot\;style&quot\;: OrderedSet {}\, &quot\;entity&quot\;: null }\, b { &quot\;style&quot\;: OrderedSet {}\, &quot\;entity&quot\;: null }\, b { &quot\;style&quot\;: OrderedSet {}\, &quot\;entity&quot\;: null }\, b { &quot\;style&quot\;: OrderedSet {}\, &quot\;entity&quot\;: null }\, b { &quot\;style&quot\;: OrderedSet {}\, &quot\;entity&quot\;: null }\, b { &quot\;style&quot\;: OrderedSet {}\, &quot\;entity&quot\;: null }\, b { &quot\;style&quot\;: OrderedSet {}\, &quot\;entity&quot\;: null }\, b { &quot\;style&quot\;: OrderedSet {}\, &quot\;entity&quot\;: null }\, b { &quot\;style&quot\;: OrderedSet {}\, &quot\;entity&quot\;: null }\, b { &quot\;style&quot\;: OrderedSet {}\, &quot\;entity&quot\;: null }\, b { &quot\;style&quot\;: OrderedSet {}\, &quot\;entity&quot\;: null }\, b { &quot\;style&quot\;: OrderedSet {}\, &quot\;entity&quot\;: null }\, b { &quot\;style&quot\;: OrderedSet {}\, &quot\;entity&quot\;: null }\, b { &quot\;style&quot\;: OrderedSet {}\, &quot\;entity&quot\;: null }\, b { &quot\;style&quot\;: OrderedSet {}\, &quot\;entity&quot\;: null }\, b { &quot\;style&quot\;: OrderedSet {}\, &quot\;entity&quot\;: null }\, b { &quot\;style&quot\;: OrderedSet {}\, &quot\;entity&quot\;: null }\, b { &quot\;style&quot\;: OrderedSet {}\, &quot\;entity&quot\;: null }\, b { &quot\;style&quot\;: OrderedSet {}\, &quot\;entity&quot\;: null }\, b { &quot\;style&quot\;: OrderedSet {}\, &quot\;entity&quot\;: null }\, b { &quot\;style&quot\;: OrderedSet {}\, &quot\;entity&quot\;: null }\, b { &quot\;style&quot\;: OrderedSet {}\, &quot\;entity&quot\;: null }\, b { &quot\;style&quot\;: OrderedSet {}\, &quot\;entity&quot\;: null }\, b { &quot\;style&quot\;: OrderedSet {}\, &quot\;entity&quot\;: null }\, b { &quot\;style&quot\;: OrderedSet {}\, &quot\;entity&quot\;: null }\, b { &quot\;style&quot\;: OrderedSet {}\, &quot\;entity&quot\;: null }\, b { &quot\;style&quot\;: OrderedSet {}\, &quot\;entity&quot\;: null }\, b { &quot\;style&quot\;: OrderedSet {}\, &quot\;entity&quot\;: null }\, b { &quot\;style&quot\;: OrderedSet {}\, &quot\;entity&quot\;: null }\, b { &quot\;style&quot\;: OrderedSet {}\, &quot\;entity&quot\;: null }\, b { &quot\;style&quot\;: OrderedSet {}\, &quot\;entity&quot\;: null }\, b { &quot\;style&quot\;: OrderedSet {}\, &quot\;entity&quot\;: null }\, b { &quot\;style&quot\;: OrderedSet {}\, &quot\;entity&quot\;: null }\, b { &quot\;style&quot\;: OrderedSet {}\, &quot\;entity&quot\;: null }\, b { &quot\;style&quot\;: OrderedSet {}\, &quot\;entity&quot\;: null }\, b { &quot\;style&quot\;: OrderedSet {}\, &quot\;entity&quot\;: null }\, b { &quot\;style&quot\;: OrderedSet {}\, &quot\;entity&quot\;: null }\, b { &quot\;style&quot\;: OrderedSet {}\, &quot\;entity&quot\;: null }\, b { &quot\;style&quot\;: OrderedSet {}\, &quot\;entity&quot\;: null }\, b { &quot\;style&quot\;: OrderedSet {}\, &quot\;entity&quot\;: null }\, b { &quot\;style&quot\;: OrderedSet {}\, &quot\;entity&quot\;: null }\, b { &quot\;style&quot\;: OrderedSet {}\, &quot\;entity&quot\;: null }\, b { &quot\;style&quot\;: OrderedSet {}\, &quot\;entity&quot\;: null }\, b { &quot\;style&quot\;: OrderedSet {}\, &quot\;entity&quot\;: null }\, b { &quot\;style&quot\;: OrderedSet {}\, &quot\;entity&quot\;: null }\, b { &quot\;style&quot\;: OrderedSet {}\, &quot\;entity&quot\;: null }\, b { &quot\;style&quot\;: OrderedSet {}\, &quot\;entity&quot\;: null }\, b { &quot\;style&quot\;: OrderedSet {}\, &quot\;entity&quot\;: null }\, b { &quot\;style&quot\;: OrderedSet {}\, &quot\;entity&quot\;: null }\, b { &quot\;style&quot\;: OrderedSet {}\, &quot\;entity&quot\;: null }\, b { &quot\;style&quot\;: OrderedSet {}\, &quot\;entity&quot\;: null }\, b { &quot\;style&quot\;: OrderedSet {}\, &quot\;entity&quot\;: null }\, b { &quot\;style&quot\;: OrderedSet {}\, &quot\;entity&quot\;: null }\, b { &quot\;style&quot\;: OrderedSet {}\, &quot\;entity&quot\;: null }\, b { &quot\;style&quot\;: OrderedSet {}\, &quot\;entity&quot\;: null }\, b { &quot\;style&quot\;: OrderedSet {}\, &quot\;entity&quot\;: null }\, b { &quot\;style&quot\;: OrderedSet {}\, &quot\;entity&quot\;: null }\, b { &quot\;style&quot\;: OrderedSet {}\, &quot\;entity&quot\;: null }\, b { &quot\;style&quot\;: OrderedSet {}\, &quot\;entity&quot\;: null } ]\, &quot\;depth&quot\;: 0\, &quot\;data&quot\;: Map {} } }\, &quot\;selectionBefore&quot\;: b { &quot\;anchorKey&quot\;: &quot\;7r7b8&quot\;\, &quot\;anchorOffset&quot\;: 250\, &quot\;focusKey&quot\;: &quot\;7r7b8&quot\;\, &quot\;focusOffset&quot\;: 250\, &quot\;isBackward&quot\;: false\, &quot\;hasFocus&quot\;: true }\, &quot\;selectionAfter&quot\;: b { &quot\;anchorKey&quot\;: &quot\;7r7b8&quot\;\, &quot\;anchorOffset&quot\;: 276\, &quot\;focusKey&quot\;: &quot\;7r7b8&quot\;\, &quot\;focusOffset&quot\;: 276\, &quot\;isBackward&quot\;: false\, &quot\;hasFocus&quot\;: true } }" data-offset-key="7r7b8-1-0" decoratedtext="Project Horizon" end="57" entitykey="2" offsetkey="7r7b8-1-0" spellcheck="false" start="42" style="background-color: rgb(220\, 230\, 248)\; font-family: Helvetica\, Arial\, sans-serif\; color: rgb(29\, 33\, 41)\; white-space: pre-wrap\;"><span data-offset-key="7r7b8-1-0" style="font-family: inherit\;"><span data-text="true" style="font-family: inherit\;">Project Horizon</span></span></span><span data-offset-key="7r7b8-2-0" style="font-family: Helvetica\, Arial\, sans-serif\; color: rgb(29\, 33\, 41)\; white-space: pre-wrap\;"><span data-text="true" style="font-family: inherit\;">&#39\;s new satellite office in Buena Vista (1809 Magnolia Avenue)! We&#39\;ll mark the occasion with a Ribbon Cutting at 3:00 p.m. to kick off their Open House festivities. Join us for a tour of the space and light refreshments. </span></span></span>
LOCATION:Project Horizon Satellite Office 1809-C Magnolia Avenue Buena Vista\, VA 24416
UID:e.2697.1328
SEQUENCE:3
DTSTAMP:20260422T160235Z
URL:https://business.lexrockchamber.com/events/details/ribbon-cutting-open-house-at-project-horizon-in-buena-vista-1328
END:VEVENT

END:VCALENDAR
