BEGIN:VCALENDAR
VERSION:2.0
PRODID:-//ChamberMaster//Event Calendar 2.0//EN
METHOD:PUBLISH
X-PUBLISHED-TTL:P3D
REFRESH-INTERVAL:P3D
CALSCALE:GREGORIAN
BEGIN:VEVENT
DTSTART:20190503T170000Z
DTEND:20190503T180000Z
X-MICROSOFT-CDO-ALLDAYEVENT:FALSE
SUMMARY:Ribbon Cutting & Proclamation for Intercept Youth Services
DESCRIPTION:We're celebrating Intercept Youth Services new presence in the Lexington\, Buena Vista and Rockbridge County community with a Ribbon Cutting! Join us at Brew Ridge Taps on Friday\, May 3rd for a special proclamation recognizing Foster Care Awareness Month.
X-ALT-DESC;FMTTYPE=text/html:<span style="font-size:14px\;">We&#39\;re celebrating Intercept Youth Services new presence in the Lexington\, Buena Vista and Rockbridge County community with a Ribbon Cutting! Join us at Brew Ridge Taps on Friday\, May 3rd for a special proclamation recognizing Foster Care Awareness Month.</span>
LOCATION:Brew Ridge Taps 11 East Nelson Street Lexington\, VA 24450
UID:e.2697.1334
SEQUENCE:3
DTSTAMP:20260422T171612Z
URL:https://business.lexrockchamber.com/events/details/ribbon-cutting-proclamation-for-intercept-youth-services-1334
END:VEVENT

END:VCALENDAR
