BEGIN:VCALENDAR
VERSION:2.0
PRODID:-//ChamberMaster//Event Calendar 2.0//EN
METHOD:PUBLISH
X-PUBLISHED-TTL:P3D
REFRESH-INTERVAL:P3D
CALSCALE:GREGORIAN
BEGIN:VEVENT
DTSTART:20170921T213000Z
DTEND:20170921T233000Z
X-MICROSOFT-CDO-ALLDAYEVENT:FALSE
SUMMARY:September Business After Hours
DESCRIPTION:Learn more about the Community Foundation and Kendal at Lexington at their jointly hosted Business After Hours on September 21 from 5:30-7:30pm. The event will be held at the lovely Sunnyside House on the Kendal campus. Dr. Robert Glidden will welcome guests and share a few words about the organizational missions. Wine\, beer and delicious hors d'oeuvres will be served.
X-ALT-DESC;FMTTYPE=text/html:<span style="color: rgb(0\, 0\, 0)\; font-family: Arial\, Helvetica\, sans-serif\; font-size: 13.3333px\;">Learn more about the Community Foundation and Kendal at Lexington at their jointly hosted Business After Hours on&nbsp\;</span><strong style="color: rgb(0\, 0\, 0)\; font-family: Arial\, Helvetica\, sans-serif\; font-size: 13.3333px\;">September 21 from 5:30-7:30pm</strong><span style="color: rgb(0\, 0\, 0)\; font-family: Arial\, Helvetica\, sans-serif\; font-size: 13.3333px\;">. The event will be held at the lovely Sunnyside House on the Kendal campus. Dr. Robert Glidden will welcome guests and share a few words about the organizational missions. Wine\, beer and delicious hors d&#39\;oeuvres will be served.</span>
LOCATION:
UID:e.2697.205
SEQUENCE:3
DTSTAMP:20260421T141314Z
URL:https://business.lexrockchamber.com/events/details/september-business-after-hours-205
END:VEVENT

END:VCALENDAR
