BEGIN:VCALENDAR
VERSION:2.0
PRODID:-//ChamberMaster//Event Calendar 2.0//EN
METHOD:PUBLISH
X-PUBLISHED-TTL:P3D
REFRESH-INTERVAL:P3D
CALSCALE:GREGORIAN
BEGIN:VEVENT
DTSTART:20200617T200000Z
DTEND:20200617T210000Z
X-MICROSOFT-CDO-ALLDAYEVENT:FALSE
SUMMARY:Virtual Business After Hours & 10-Year Anniversary Celebration with Heartstone Lodge
DESCRIPTION:We're going "virtual" for our June BAH to help Heartstone Lodge celebrate their 10-year anniversary! Tune into Facebook LIVE on Wednesday\, June 17 at 4pm for an interview with the owners\, and then stay tuned for a special video highlighting all of the wonderful features of the venue!
X-ALT-DESC;FMTTYPE=text/html:<div style="color: rgb(64\, 63\, 66)\; font-family: Arial\, Verdana\, Helvetica\, sans-serif\; font-size: 14px\; white-space: pre-wrap\; background-color: rgb(246\, 246\, 246)\;"><span style="color: rgb(0\, 0\, 0)\;">We&#39\;re going &quot\;virtual&quot\; for our June BAH to help Heartstone Lodge celebrate their 10-year anniversary! Tune into </span><a data-link-type="web" href="http://www.facebook.com/lexrockchamber" rel="noopener noreferrer" style="color: rgb(0\, 0\, 0)\; font-weight: bold\;" target="_blank">Facebook LIVE</a><span style="color: rgb(0\, 0\, 0)\;"> on </span><span style="color: rgb(0\, 0\, 0)\; font-weight: bold\;">Wednesday\, June 17 at 4pm</span><span style="color: rgb(0\, 0\, 0)\;"> for an interview with the owners\, and then stay tuned for a special video highlighting all of the wonderful features of the venue!</span></div>\n
LOCATION:
UID:e.2697.1386
SEQUENCE:3
DTSTAMP:20260422T023934Z
URL:https://business.lexrockchamber.com/events/details/virtual-business-after-hours-10-year-anniversary-celebration-with-heartstone-lodge-1386
END:VEVENT

END:VCALENDAR
