BEGIN:VCALENDAR
VERSION:2.0
PRODID:-//ChamberMaster//Event Calendar 2.0//EN
METHOD:PUBLISH
X-PUBLISHED-TTL:P3D
REFRESH-INTERVAL:P3D
CALSCALE:GREGORIAN
BEGIN:VEVENT
DTSTART:20250625T170000Z
DTEND:20250625T180000Z
X-MICROSOFT-CDO-ALLDAYEVENT:FALSE
SUMMARY:Walkabout Outfitter 20th Anniversary Celebration
DESCRIPTION:
X-ALT-DESC;FMTTYPE=text/html:
LOCATION:
UID:e.2697.2081
SEQUENCE:3
DTSTAMP:20260419T142755Z
URL:https://business.lexrockchamber.com/events/details/walkabout-outfitter-20th-anniversary-celebration-2081
END:VEVENT

END:VCALENDAR
